BEGIN:VCALENDAR
VERSION:2.0
PRODID:-//Die Servicequelle® - Messefullservice Messecatering deutschlandweit - ECPv6.15.20//NONSGML v1.0//EN
CALSCALE:GREGORIAN
METHOD:PUBLISH
X-WR-CALNAME:Die Servicequelle® - Messefullservice Messecatering deutschlandweit
X-ORIGINAL-URL:https://die-servicequelle.de
X-WR-CALDESC:Veranstaltungen für Die Servicequelle® - Messefullservice Messecatering deutschlandweit
REFRESH-INTERVAL;VALUE=DURATION:PT1H
X-Robots-Tag:noindex
X-PUBLISHED-TTL:PT1H
BEGIN:VTIMEZONE
TZID:Europe/Berlin
BEGIN:DAYLIGHT
TZOFFSETFROM:+0100
TZOFFSETTO:+0200
TZNAME:CEST
DTSTART:20250330T010000
END:DAYLIGHT
BEGIN:STANDARD
TZOFFSETFROM:+0200
TZOFFSETTO:+0100
TZNAME:CET
DTSTART:20251026T010000
END:STANDARD
BEGIN:DAYLIGHT
TZOFFSETFROM:+0100
TZOFFSETTO:+0200
TZNAME:CEST
DTSTART:20260329T010000
END:DAYLIGHT
BEGIN:STANDARD
TZOFFSETFROM:+0200
TZOFFSETTO:+0100
TZNAME:CET
DTSTART:20261025T010000
END:STANDARD
BEGIN:DAYLIGHT
TZOFFSETFROM:+0100
TZOFFSETTO:+0200
TZNAME:CEST
DTSTART:20270328T010000
END:DAYLIGHT
BEGIN:STANDARD
TZOFFSETFROM:+0200
TZOFFSETTO:+0100
TZNAME:CET
DTSTART:20271031T010000
END:STANDARD
END:VTIMEZONE
BEGIN:VEVENT
DTSTART;VALUE=DATE:20260915
DTEND;VALUE=DATE:20260921
DTSTAMP:20260422T202356
CREATED:20250725T135102Z
LAST-MODIFIED:20250725T135102Z
UID:9278-1789430400-1789948799@die-servicequelle.de
SUMMARY:IAA TRANSPORTATION
DESCRIPTION:Unser Messecatering für die IAA TRANSPORTATION – Qualität\, die begeistert\n\nBei Die Servicequelle sind Sie genau richtig – wir bieten maßgeschneidertes Messecatering für die IAA TRANSPORTATION in Hannover: vom hochwertigen Fingerfood über Kaffeebar bis hin zu frisch gemixten Cocktails. Perfekt für Ihren Markenauftritt – professionell\, flexibel und aufmerksam betreut. Auf der IAA TRANSPORTATION betreuen wir Messestände unterschiedlichster Größen und passen unser Catering flexibel an Ihre Anforderungen an. \n\n\nDas erweiterte Konzept der IAA TRANSPORTATION in Hannover (bisher IAA Nutzfahrzeuge) besteht aus vier Veranstaltungselementen. Die IAA Exhibition ist der Branchentreffpunkt des Jahres. Internationale Aussteller stellen auf der Nutzfahrzeugmesse ihre Innovationen einem internationalen Publikum vor und können neben eigenen Standbauten erstmals vorgefertigte Standbaupakete (u.a. für Startups) und andere Präsentationsformate nutzen. Die renommierte IAA Conference ist der bedeutendste ThinkTank für den Zukunftsdialog der Transport- und Logistikbranche. Internationale Redner teilen in dynamischen Formaten wie Keynotes\, Paneltalks oder Kamingesprächen ihre Ideen und laden zu einem direkten Austausch vor Ort und digital ein. Die IAA Experience bindet die Fachbesucher interaktiv in das Geschehen ein. Diese können auf der IAA TRANSPORTATION in der Messe Hannover neuste Branchentrends und Konzeptideen live ausprobieren und erleben so bereits heute\, wie morgen Personen und Güter transportiert und wie die Angebote miteinander vernetzt und sicherer gemacht werden. Die IAA Digital bietet darüber hinaus mit einem virtuellen Angebot die Chance die Reichweite zu maximieren und global neue Zielgruppen zu erschließen. Weitere Details zu den einzelnen Formaten werden sukzessive verkündet. Mit diesem neuen Konzept bringt die IAA TRANSPORTATION relevante Zukunftsentscheider\, Global Player und aufstrebende Unternehmen in Hannover und weltweit zusammen. Neben Infrastrukturanbietern und der Tech-Branche werden insbesondere Busse eine wichtigere Rolle als bisher einnehmen. Aufgrund des weiterhin steigenden Verkehrsaufkommens und der wachsenden Bedeutung der Logistik auf der letzten Meile umfasst das neue Konzept auch die Bereiche Infrastruktur\, Stadt- und Verkehrsplanung. Ein weiterer Fokus der führenden Branchenveranstaltung IAA TRANSPORTATION in Hannover wird die technologische Weiterentwicklung der Nutzfahrzeuge auf dem Weg zur Klimaneutralität sein. \nSie suchen einen Partner für Messecatering auf der IAA TRANSPORTATION? Dann sind Sie bei uns genau richtig. \nNutzen Sie unser Kontaktformular oder rufen Sie uns direkt an – wir freuen uns auf Ihre Anfrage und beraten Sie gerne persönlich! \nMesseprojektleiter für Hannover: Herr Ralf Tempelmann \nKontaktdaten: Unser Team
URL:https://die-servicequelle.de/messetermin/messecatering-iaa-transportation/
LOCATION:Messe Hannover\, Messegelände\, Hannover\, Niedersachsen\, 30521\, Germany
END:VEVENT
END:VCALENDAR