BEGIN:VCALENDAR
VERSION:2.0
PRODID:-//Die Servicequelle® - Messefullservice Messecatering deutschlandweit - ECPv6.15.20//NONSGML v1.0//EN
CALSCALE:GREGORIAN
METHOD:PUBLISH
X-ORIGINAL-URL:https://die-servicequelle.de
X-WR-CALDESC:Veranstaltungen für Die Servicequelle® - Messefullservice Messecatering deutschlandweit
REFRESH-INTERVAL;VALUE=DURATION:PT1H
X-Robots-Tag:noindex
X-PUBLISHED-TTL:PT1H
BEGIN:VTIMEZONE
TZID:Europe/Berlin
BEGIN:DAYLIGHT
TZOFFSETFROM:+0100
TZOFFSETTO:+0200
TZNAME:CEST
DTSTART:20250330T010000
END:DAYLIGHT
BEGIN:STANDARD
TZOFFSETFROM:+0200
TZOFFSETTO:+0100
TZNAME:CET
DTSTART:20251026T010000
END:STANDARD
BEGIN:DAYLIGHT
TZOFFSETFROM:+0100
TZOFFSETTO:+0200
TZNAME:CEST
DTSTART:20260329T010000
END:DAYLIGHT
BEGIN:STANDARD
TZOFFSETFROM:+0200
TZOFFSETTO:+0100
TZNAME:CET
DTSTART:20261025T010000
END:STANDARD
BEGIN:DAYLIGHT
TZOFFSETFROM:+0100
TZOFFSETTO:+0200
TZNAME:CEST
DTSTART:20270328T010000
END:DAYLIGHT
BEGIN:STANDARD
TZOFFSETFROM:+0200
TZOFFSETTO:+0100
TZNAME:CET
DTSTART:20271031T010000
END:STANDARD
END:VTIMEZONE
BEGIN:VEVENT
DTSTART;VALUE=DATE:20261117
DTEND;VALUE=DATE:20261121
DTSTAMP:20260423T013205
CREATED:20251210T131532Z
LAST-MODIFIED:20251210T131532Z
UID:9497-1794873600-1795219199@die-servicequelle.de
SUMMARY:formnext
DESCRIPTION:Unser Messecatering für die formnext – Qualität\, die begeistert \nBei Die Servicequelle sind Sie genau richtig – wir bieten maßgeschneidertes Messecatering für die formnext in Frankfurt: vom hochwertigen Fingerfood über Kaffeebar bis hin zu frisch gemixten Cocktails. Perfekt für Ihren Markenauftritt – professionell\, flexibel und aufmerksam betreut. Auf der formnext betreuen wir Messestände unterschiedlichster Größen und passen unser Catering flexibel an Ihre Anforderungen an. \n\n\nDie Messe formnext in Frankfurt am Main ist eine internationale Fachmesse für additive Fertigungstechnologien sowie deren vor- und nachgelagerter Prozesse. Eine Vielzahl an nationalen und internationalen Ausstellern präsentieren auf der formnext Messe Frankfurt ihre Produkte und Dienstleistungen und zeigen auf\, wie sich die Prozesskette von einer Produktidee bis zu dessen Produktion entwickelt. Dabei werden die Additiven und konventionellen Verfahren zusammengeführt und die nächste Generation intelligenter industrieller Produktion präsentiert. Das Hallenkonzept der formnext in Frankfurt am Main garantiert dabei eine leichte und logische Orientierung und schafft optimale Networking-Möglichkeiten. Aktuelle und künftige Anwendungsmöglichkeiten der Additiven Technologien sowie ihren Einfluss auf die Produktentwicklung und die industrielle Produktion werden auf der parallel stattfindenden Konferenz thematisiert. \n \nSie suchen einen Partner für Messecatering auf der formnext? Dann sind Sie bei uns genau richtig. \nNutzen Sie unser Kontaktformular oder rufen Sie uns direkt an – wir freuen uns auf Ihre Anfrage und beraten Sie gerne persönlich! \nMesseprojektleiter für Frankfurt: Herr Ingmar Beermann
URL:https://die-servicequelle.de/messetermin/messecatering-formnext-2/
LOCATION:Messe Frankfurt\, Ludwig-Erhard-Anlage 1\, Frankfurt am Main\, Hessen\, 60327\, Germany
END:VEVENT
END:VCALENDAR