BEGIN:VCALENDAR
VERSION:2.0
PRODID:-//Die Servicequelle® - Messefullservice Messecatering deutschlandweit - ECPv6.15.20//NONSGML v1.0//EN
CALSCALE:GREGORIAN
METHOD:PUBLISH
X-ORIGINAL-URL:https://die-servicequelle.de
X-WR-CALDESC:Veranstaltungen für Die Servicequelle® - Messefullservice Messecatering deutschlandweit
REFRESH-INTERVAL;VALUE=DURATION:PT1H
X-Robots-Tag:noindex
X-PUBLISHED-TTL:PT1H
BEGIN:VTIMEZONE
TZID:Europe/Berlin
BEGIN:DAYLIGHT
TZOFFSETFROM:+0100
TZOFFSETTO:+0200
TZNAME:CEST
DTSTART:20250330T010000
END:DAYLIGHT
BEGIN:STANDARD
TZOFFSETFROM:+0200
TZOFFSETTO:+0100
TZNAME:CET
DTSTART:20251026T010000
END:STANDARD
BEGIN:DAYLIGHT
TZOFFSETFROM:+0100
TZOFFSETTO:+0200
TZNAME:CEST
DTSTART:20260329T010000
END:DAYLIGHT
BEGIN:STANDARD
TZOFFSETFROM:+0200
TZOFFSETTO:+0100
TZNAME:CET
DTSTART:20261025T010000
END:STANDARD
BEGIN:DAYLIGHT
TZOFFSETFROM:+0100
TZOFFSETTO:+0200
TZNAME:CEST
DTSTART:20270328T010000
END:DAYLIGHT
BEGIN:STANDARD
TZOFFSETFROM:+0200
TZOFFSETTO:+0100
TZNAME:CET
DTSTART:20271031T010000
END:STANDARD
END:VTIMEZONE
BEGIN:VEVENT
DTSTART;VALUE=DATE:20260324
DTEND;VALUE=DATE:20260327
DTSTAMP:20260422T134744
CREATED:20251209T141739Z
LAST-MODIFIED:20251209T141739Z
UID:9425-1774310400-1774569599@die-servicequelle.de
SUMMARY:emv
DESCRIPTION:Unser Messecatering für die emv – Qualität\, die begeistert \nBei Die Servicequelle sind Sie genau richtig – wir bieten maßgeschneidertes Messecatering für die emv in Köln: vom hochwertigen Fingerfood über Kaffeebar bis hin zu frisch gemixten Cocktails. Perfekt für Ihren Markenauftritt – professionell\, flexibel und aufmerksam betreut. Auf der emv betreuen wir Messestände unterschiedlichster Größen und passen unser Catering flexibel an Ihre Anforderungen an. \n\n\nDie Messe EMV Köln ist eine internationale Fachmesse und Kongress für Elektromagnetische Verträglichkeit. Zahlreiche Aussteller präsentieren auf der EMV Messe Köln ihre Produkte\, Lösungen und Dienstleistungen rund um die elektromagnetische Verträglichkeit. Die Bandbreite der Fachbereiche umfasst unter anderem Mess- und Prüftechnik\, Filter- und Filterkomponenten\, Blitz- & Überspannungsschutz\, Schirmung und ESD-Schutzmaßnahmen. Ein anwenderorientierte Kongress zu aktuellen Themen ergänzt das Ausstellerangebot der Fachmesse für Elektromagnetische Verträglichkeit\, der EMV Köln. \n \nSie suchen einen Partner für Messecatering auf der emv? Dann sind Sie bei uns genau richtig. \nNutzen Sie unser Kontaktformular oder rufen Sie uns direkt an – wir freuen uns auf Ihre Anfrage und beraten Sie gerne persönlich! \nMesseprojektleiter für Köln: Herr Ingmar Beermann
URL:https://die-servicequelle.de/messetermin/messecatering-emv/
LOCATION:Messe Köln\, Messepl. 1\, Köln\, 50679\, Germany
END:VEVENT
END:VCALENDAR