BEGIN:VCALENDAR
VERSION:2.0
PRODID:-//Die Servicequelle® - Messefullservice Messecatering deutschlandweit - ECPv6.15.20//NONSGML v1.0//EN
CALSCALE:GREGORIAN
METHOD:PUBLISH
X-WR-CALNAME:Die Servicequelle® - Messefullservice Messecatering deutschlandweit
X-ORIGINAL-URL:https://die-servicequelle.de
X-WR-CALDESC:Veranstaltungen für Die Servicequelle® - Messefullservice Messecatering deutschlandweit
REFRESH-INTERVAL;VALUE=DURATION:PT1H
X-Robots-Tag:noindex
X-PUBLISHED-TTL:PT1H
BEGIN:VTIMEZONE
TZID:Europe/Berlin
BEGIN:DAYLIGHT
TZOFFSETFROM:+0100
TZOFFSETTO:+0200
TZNAME:CEST
DTSTART:20240331T010000
END:DAYLIGHT
BEGIN:STANDARD
TZOFFSETFROM:+0200
TZOFFSETTO:+0100
TZNAME:CET
DTSTART:20241027T010000
END:STANDARD
BEGIN:DAYLIGHT
TZOFFSETFROM:+0100
TZOFFSETTO:+0200
TZNAME:CEST
DTSTART:20250330T010000
END:DAYLIGHT
BEGIN:STANDARD
TZOFFSETFROM:+0200
TZOFFSETTO:+0100
TZNAME:CET
DTSTART:20251026T010000
END:STANDARD
BEGIN:DAYLIGHT
TZOFFSETFROM:+0100
TZOFFSETTO:+0200
TZNAME:CEST
DTSTART:20260329T010000
END:DAYLIGHT
BEGIN:STANDARD
TZOFFSETFROM:+0200
TZOFFSETTO:+0100
TZNAME:CET
DTSTART:20261025T010000
END:STANDARD
END:VTIMEZONE
BEGIN:VEVENT
DTSTART;VALUE=DATE:20251104
DTEND;VALUE=DATE:20251107
DTSTAMP:20260422T201624
CREATED:20250725T101202Z
LAST-MODIFIED:20250725T101213Z
UID:9182-1762214400-1762473599@die-servicequelle.de
SUMMARY:FMB
DESCRIPTION:Unser Messecatering für die FMB – Qualität\, die begeistert\n\nBei Die Servicequelle sind Sie genau richtig – wir bieten maßgeschneidertes Messecatering für die FMB in Bad Salzuflen: vom hochwertigen Fingerfood über Kaffeebar bis hin zu frisch gemixten Cocktails. Perfekt für Ihren Markenauftritt – professionell\, flexibel und aufmerksam betreut. Auf der FMB betreuen wir Messestände unterschiedlichster Größen und passen unser Catering flexibel an Ihre Anforderungen an. \n\n\nDie Messe FMB Fachmesse für Maschinenbau in Bad Salzuflen ist eine Innovationsmesse und Branchentreffpunkt für den direkten Austausch von Entscheidern des Maschinenbaus und ihren Zulieferern. Eine Vielzahl an nationalen und internationalen Ausstellern präsentieren auf der FMB Messe Bad Salzuflen\, der Zuliefermesse Maschinenbau\, alle Maschinenbau relevanten Produktgruppen wie Montage-\, Handhabungs- und Automatisierungstechnik\, Industrieelektronik\, Maschinenteile\, Baugruppen\, Werkstoffe und Werkzeuge\, Netzwerke\, Logistik und Produktentwicklung. Die FMB Bad Salzuflen führt Konstrukteure und Planer zielorientiert zusammen und schlägt Kommunikationsbrücken für bestehende und neue Netzwerke. \nSie suchen einen Partner für Messecatering auf der FMB? Dann sind Sie bei uns genau richtig. \nNutzen Sie unser Kontaktformular oder rufen Sie uns direkt an – wir freuen uns auf Ihre Anfrage und beraten Sie gerne persönlich! \nMesseprojektleiter für Bad Salzuflen: Herr Ralf Tempelmann \nKontaktdaten: Unser Team
URL:https://die-servicequelle.de/messetermin/messecatering-fmb/
LOCATION:Messe Bad Salzuflen\, Benzstraße 23\, Bad Salzuflen\, Niedersachsen\, 32108\, Germany
END:VEVENT
BEGIN:VEVENT
DTSTART;VALUE=DATE:20251104
DTEND;VALUE=DATE:20251108
DTSTAMP:20260422T201624
CREATED:20250725T100821Z
LAST-MODIFIED:20250725T100821Z
UID:9180-1762214400-1762559999@die-servicequelle.de
SUMMARY:A+A
DESCRIPTION:Unser Messecatering für die A+A – Qualität\, die begeistert\n\nBei Die Servicequelle sind Sie genau richtig – wir bieten maßgeschneidertes Messecatering für die A+A in Düsseldorf: vom hochwertigen Fingerfood über Kaffeebar bis hin zu frisch gemixten Cocktails. Perfekt für Ihren Markenauftritt – professionell\, flexibel und aufmerksam betreut. Auf der A+A betreuen wir Messestände unterschiedlichster Größen und passen unser Catering flexibel an Ihre Anforderungen an. \n\n\nDie Messe A+A in Düsseldorf ist die internationale Fachmesse und Kongress für Arbeitsschutz und Arbeitssicherheit. Die A+A Messe Düsseldorf präsentiert ein vielfältiges Angebot an Themen\, darunter Persönliche Schutzausrüstung (PSA)\, Betriebliche Sicherheit und Informationen zur Gesundheit bei der Arbeit. Unternehmen stellen auf der Arbeitsschutzmesse umfassende Sicherheitslösungen vor\, die darauf ausgerichtet sind\, Arbeitsunfälle und Gesundheitsrisiken zu reduzieren. Corporate Fashion nimmt ebenfalls einen wichtigen Platz auf der Arbeitssicherheitsmesse ein. Hier zeigen Hersteller professionelle\, funktionale und modische Arbeitskleidung\, die den Komfort und die Sicherheit der Mitarbeiter gewährleistet. Im Bereich Brandschutz & Notfallmanagement werden auf der A+A Düsseldorf innovative Lösungen für den Brandschutz und das effektive Management von Notfällen präsentiert. Zusätzlich bietet die Betriebssicherheitsmesse eine große Auswahl an hochwertigen Komponenten\, Geweben und Vorprodukte\, denn die Qualität der Komponenten spielt eine entscheidende Rolle für die Leistungsfähigkeit und Sicherheit von Arbeitsausrüstungen. Foren und Sonderschauen sind ein wesentlicher Bestandteil der A+A in Düsseldorf und ergänzen diese perfekt. Sie bieten spezielle Angebote und maßgeschneiderte Lösungen\, die den Fachbesuchern wertvolle Einblicke aus Forschung und Praxis im Bereich Arbeitsschutz und Arbeitssicherheit bieten. Hier werden spezifische Themen behandelt und präsentiert\, die den Besuchern helfen\, ihr Wissen und ihre Expertise in diesen Bereichen zu erweitern. Die Sicherheitsmesse A+A in Düsseldorf ist die weltweit größte und wichtigste Veranstaltung\, wenn es um Sicherheit und Gesundheit bei der Arbeit. \nSie suchen einen Partner für Messecatering auf der A+A? Dann sind Sie bei uns genau richtig. \nNutzen Sie unser Kontaktformular oder rufen Sie uns direkt an – wir freuen uns auf Ihre Anfrage und beraten Sie gerne persönlich! \nMesseprojektleiter für Düsseldorf: Herr Ingmar Beermann \nKontaktdaten: Unser Team
URL:https://die-servicequelle.de/messetermin/messecatering-aa/
LOCATION:Messe Düsseldorf\, Stockumer Kirchstraße 61\, Düsseldorf\, Nordrheinwestfalen\, 40474\, Germany
END:VEVENT
BEGIN:VEVENT
DTSTART;VALUE=DATE:20251109
DTEND;VALUE=DATE:20251116
DTSTAMP:20260422T201624
CREATED:20250725T101515Z
LAST-MODIFIED:20250725T101515Z
UID:9185-1762646400-1763251199@die-servicequelle.de
SUMMARY:AGRITECHNICA
DESCRIPTION:Unser Messecatering für die AGRITECHNICA – Qualität\, die begeistert \nBei Die Servicequelle sind Sie genau richtig – wir bieten maßgeschneidertes Messecatering für die AGRITECHNICA in Hannover: vom hochwertigen Fingerfood über Kaffeebar bis hin zu frisch gemixten Cocktails. Perfekt für Ihren Markenauftritt – professionell\, flexibel und aufmerksam betreut. Auf der AGRITECHNICA betreuen wir Messestände unterschiedlichster Größen und passen unser Catering flexibel an Ihre Anforderungen an. \n\n\nDie Messe AGRITECHNICA in Hannover ist die Weltleitmesse der Landtechnik und findet im Zweijahresturnus statt. Organisator ist die DLG. Aussteller aus aller Welt präsentieren auf der AGRITECHNICA Messe Hannover die Neuheiten für die gesamte Agrarbranche. Die AGRITECHNICA ist das Schaufenster der globalen Landtechnikindustrie und Forum für die Zukunftsfragen der Pflanzenproduktion. SYSTEMS & COMPONENTS findet unter dem Dach der AGRITECHNICA in Hannover statt. Sie ist die führende B2B-Messe der internationalen Zulieferindustrie der Landtechnik und des gesamten Off-Highway-Sektors. \nSie suchen einen Partner für Messecatering auf der AGRITECHNICA? Dann sind Sie bei uns genau richtig. \nNutzen Sie unser Kontaktformular oder rufen Sie uns direkt an – wir freuen uns auf Ihre Anfrage und beraten Sie gerne persönlich! \nMesseprojektleiter für Hannover: Herr Ralf Tempelmann \nKontaktdaten: Unser Team
URL:https://die-servicequelle.de/messetermin/messecatering-agritechnica/
LOCATION:Messe Hannover\, Messegelände\, Hannover\, Niedersachsen\, 30521\, Germany
END:VEVENT
BEGIN:VEVENT
DTSTART;VALUE=DATE:20251112
DTEND;VALUE=DATE:20251115
DTSTAMP:20260422T201624
CREATED:20250725T101945Z
LAST-MODIFIED:20250725T101945Z
UID:9187-1762905600-1763164799@die-servicequelle.de
SUMMARY:automotive interiors EXPO Europe
DESCRIPTION:Unser Messecatering für die automotive interiors EXPO Europe – Qualität\, die begeistert \nBei Die Servicequelle sind Sie genau richtig – wir bieten maßgeschneidertes Messecatering für die automotive interiors EXPO Europe in Stuttgart: vom hochwertigen Fingerfood über Kaffeebar bis hin zu frisch gemixten Cocktails. Perfekt für Ihren Markenauftritt – professionell\, flexibel und aufmerksam betreut. Auf der automotive interiors EXPO Europe betreuen wir Messestände unterschiedlichster Größen und passen unser Catering flexibel an Ihre Anforderungen an. \n\nDie Messe Automotive Interiors Expo Stuttgart ist eine Fachmesse für Fahrzeuginnenausstattungen. Zahlreiche Weltweit führende Hersteller präsentieren sich auf der Automotive Interiors Expo Messe Stuttgart mit ihren aktuellen Produkte\, Dienstleistungen und Lösungen rund um Komponenten und Systeme für die Fahrzeuginnenausstattung. Das Angebotsspektrum umfasst dabei alle Bereiche\, angefangen bei Sitzen\, Befestigungen\, Dämmstoffen\, Teppichen\, Fußmatten und Verkleidungen\, über Spiegel\, Innenbeleuchtung\, Sonnenschutz und Sicherheitsgurte\, bis hin zu Entertainment-\, Lautsprecher-\, Navigations- und Infotainment-Systemen\, kurz gesagt\, das gesamte Spektrum für Innenausstattungen. Die begleitendene Konferenz der Automotive Interiors Expo Stuttgart Messe informiert darüber hinaus Fahrzeugdesigner und -hersteller sowie Designhäuser und Studios über die neuesten Entwicklungen und bietet eine Plattform für Produkteinführungen. \nSie suchen einen Partner für Messecatering auf der automotive interiors EXPO Europe? Dann sind Sie bei uns genau richtig. \nNutzen Sie unser Kontaktformular oder rufen Sie uns direkt an – wir freuen uns auf Ihre Anfrage und beraten Sie gerne persönlich! \nMesseprojektleiter für Stuttgart: Herr Manuel Kempe \nKontaktdaten: Unser Team
URL:https://die-servicequelle.de/messetermin/messecatering-automotive-interiors-expo-europe/
LOCATION:Messe Stuttgart\, Messepiazza 1\, Stuttgart\, Baden-Württemberg\, 70629\, Germany
END:VEVENT
BEGIN:VEVENT
DTSTART;VALUE=DATE:20251117
DTEND;VALUE=DATE:20251121
DTSTAMP:20260422T201624
CREATED:20250725T105348Z
LAST-MODIFIED:20250725T105348Z
UID:9189-1763337600-1763683199@die-servicequelle.de
SUMMARY:COMPAMED
DESCRIPTION:Unser Messecatering für die COMPAMED – Qualität\, die begeistert \nBei Die Servicequelle sind Sie genau richtig – wir bieten maßgeschneidertes Messecatering für die COMPAMED in Düsseldorf: vom hochwertigen Fingerfood über Kaffeebar bis hin zu frisch gemixten Cocktails. Perfekt für Ihren Markenauftritt – professionell\, flexibel und aufmerksam betreut. Auf der COMPAMED betreuen wir Messestände unterschiedlichster Größen und passen unser Catering flexibel an Ihre Anforderungen an. \n\n\nDie Messe COMPAMED in Düsseldorf ist die internationale Fachmesse für die medizinische Zuliefererbranche und Produktentwicklung. Eine Vielzahl an nationalen und internationalen Ausstellern und Zulieferer präsentieren sich auf der COMPAMED Messe Düsseldorf Und bieten das komplette Spektrum von Produkten\, Materialien und Dienstleistungen in der medizinischen Industrie. Zu den Schwerpunkten gehören High-Tech Lösungen\, Rohmaterialien und Vorprodukte\, Bauteile\, Komponenten und Teilprodukte für medizinische Geräte\, Ausrüstungen und Technologien für die medizinische Geräteherstellung\, Verpackung und Dienstleistung\, Mikrosystemtechnik und Nanotechnologie\, sowie auch Auftragsfertigung „Electronic Manufacturing Services“ (EMS) und komplexe OEM Partnerschaften. Internationale Referenten und führende Experten präsentieren darüber hinaus in attraktiven Foren die aktuellen Trends der Medizintechnik. Die COMPAMED Düsseldorf findet parallel zur weltgrößten Medizinmesse MEDICA statt. \nSie suchen einen Partner für Messecatering auf der COMPAMED? Dann sind Sie bei uns genau richtig. \nNutzen Sie unser Kontaktformular oder rufen Sie uns direkt an – wir freuen uns auf Ihre Anfrage und beraten Sie gerne persönlich! \nMesseprojektleiter für Düsseldorf: Herr Ingmar Beermann \nKontaktdaten: Unser Team
URL:https://die-servicequelle.de/messetermin/messecatering-compamed/
LOCATION:Messe Düsseldorf\, Stockumer Kirchstraße 61\, Düsseldorf\, Nordrheinwestfalen\, 40474\, Germany
END:VEVENT
BEGIN:VEVENT
DTSTART;VALUE=DATE:20251117
DTEND;VALUE=DATE:20251121
DTSTAMP:20260422T201624
CREATED:20250725T105620Z
LAST-MODIFIED:20250725T105620Z
UID:9191-1763337600-1763683199@die-servicequelle.de
SUMMARY:MEDICA
DESCRIPTION:Unser Messecatering für die MEDICA – Qualität\, die begeistert\n\nBei Die Servicequelle sind Sie genau richtig – wir bieten maßgeschneidertes Messecatering für die MEDICA in Düsseldorf: vom hochwertigen Fingerfood über Kaffeebar bis hin zu frisch gemixten Cocktails. Perfekt für Ihren Markenauftritt – professionell\, flexibel und aufmerksam betreut. Auf der MEDICA betreuen wir Messestände unterschiedlichster Größen und passen unser Catering flexibel an Ihre Anforderungen an. \n\nDie Messe MEDICA in Düsseldorf ist das Weltforum der Medizin mit internationaler Fachmesse und Kongress. Eine Vielzahl an nationalen und internationalen Ausstellern präsentieren auf der MEDICA Messe Düsseldorf ihre neuesten Geräte\, Produkte und Systeme für die ambulante und stationäre Versorgung. Zu den Schwerpunkten der Fachmesse gehören Elektromedizin\, Medizin- und Labortechnik\, Diagnostika\, Physiotherapie\, Orthopädietechnik\, Bedarfs- und Verbrauchsartikel\, Informations- und Kommunikationstechnik\, medizinisches Mobiliar sowie spezielle Raumeinrichtung für Kliniken und Praxen. Das umfangreiche Rahmenprogramm umfasst Präsentationen\, Vorträge und Podiumsdiskussionen\, sowie auch Konferenzen und Foren und informiert über aktuelle Trendthemen im Gesundheitsbereich. Zeitgleich zur weltgrößten Medizinmesse MEDICA Düsseldorf findet die COMPAMED – internationale Fachmesse für die medizinische Zuliefererbranche und Produktentwicklung statt. \nSie suchen einen Partner für Messecatering auf der MEDICA? Dann sind Sie bei uns genau richtig. \nNutzen Sie unser Kontaktformular oder rufen Sie uns direkt an – wir freuen uns auf Ihre Anfrage und beraten Sie gerne persönlich! \nMesseprojektleiter für Düsseldorf: Herr Ingmar Beermann \nKontaktdaten: Unser Team
URL:https://die-servicequelle.de/messetermin/messecatering-medica/
LOCATION:Messe Düsseldorf\, Stockumer Kirchstraße 61\, Düsseldorf\, Nordrheinwestfalen\, 40474\, Germany
END:VEVENT
BEGIN:VEVENT
DTSTART;VALUE=DATE:20251118
DTEND;VALUE=DATE:20251122
DTSTAMP:20260422T201624
CREATED:20250725T110211Z
LAST-MODIFIED:20250725T110211Z
UID:9193-1763424000-1763769599@die-servicequelle.de
SUMMARY:formnext
DESCRIPTION:Unser Messecatering für die formnext – Qualität\, die begeistert\n\nBei Die Servicequelle sind Sie genau richtig – wir bieten maßgeschneidertes Messecatering für die formnext in Frankfurt: vom hochwertigen Fingerfood über Kaffeebar bis hin zu frisch gemixten Cocktails. Perfekt für Ihren Markenauftritt – professionell\, flexibel und aufmerksam betreut. Auf der formnext betreuen wir Messestände unterschiedlichster Größen und passen unser Catering flexibel an Ihre Anforderungen an. \n\n\nDie Messe formnext in Frankfurt am Main ist eine internationale Fachmesse für additive Fertigungstechnologien sowie deren vor- und nachgelagerter Prozesse. Eine Vielzahl an nationalen und internationalen Ausstellern präsentieren auf der formnext Messe Frankfurt ihre Produkte und Dienstleistungen und zeigen auf\, wie sich die Prozesskette von einer Produktidee bis zu dessen Produktion entwickelt. Dabei werden die Additiven und konventionellen Verfahren zusammengeführt und die nächste Generation intelligenter industrieller Produktion präsentiert. Das Hallenkonzept der formnext in Frankfurt am Main garantiert dabei eine leichte und logische Orientierung und schafft optimale Networking-Möglichkeiten. Aktuelle und künftige Anwendungsmöglichkeiten der Additiven Technologien sowie ihren Einfluss auf die Produktentwicklung und die industrielle Produktion werden auf der parallel stattfindenden Konferenz thematisiert. \nSie suchen einen Partner für Messecatering auf der formnext? Dann sind Sie bei uns genau richtig. \nNutzen Sie unser Kontaktformular oder rufen Sie uns direkt an – wir freuen uns auf Ihre Anfrage und beraten Sie gerne persönlich! \nMesseprojektleiter für Frankfurt: Herr Ingmar Beermann \nKontaktdaten: Unser Team
URL:https://die-servicequelle.de/messetermin/messecatering-formnext/
LOCATION:Messe Frankfurt\, Ludwig-Erhard-Anlage 1\, Frankfurt am Main\, Hessen\, 60327\, Germany
END:VEVENT
BEGIN:VEVENT
DTSTART;VALUE=DATE:20251118
DTEND;VALUE=DATE:20251122
DTSTAMP:20260422T201624
CREATED:20250725T110448Z
LAST-MODIFIED:20250725T110448Z
UID:9195-1763424000-1763769599@die-servicequelle.de
SUMMARY:productronica
DESCRIPTION:Unser Messecatering für die productronica – Qualität\, die begeistert\n\nBei Die Servicequelle sind Sie genau richtig – wir bieten maßgeschneidertes Messecatering für die productronica in München: vom hochwertigen Fingerfood über Kaffeebar bis hin zu frisch gemixten Cocktails. Perfekt für Ihren Markenauftritt – professionell\, flexibel und aufmerksam betreut. Auf der productronica betreuen wir Messestände unterschiedlichster Größen und passen unser Catering flexibel an Ihre Anforderungen an. \n\n\nDie Messe productronica München ist die Weltleitmesse für innovative Elektronikfertigung. Mehr als 1.100 nationale und internationale Aussteller decken auf der productronica Messe München die gesamte Prozesskette der Elektronikfertigung ab. Das Angebotsspektrum umfasst dabei innovative Verfahrenstechniken\, entscheidende Entwicklungen in der Automation oder Fertigungstechnologien für Leiterplatten\, Mess- und Prüftechnik sowie in der Qualitätssicherung. Das Rahmenprogramm der productronica München Messe besteht aus verschiedenen Podiumsdiskussionen wie dem international besetzten Executive Round Table über Expertengespräche\, Fachdiskussionen bis hin zu Live-Demos und vielfältigen Sonderschauen. \nSie suchen einen Partner für Messecatering auf der productronica? Dann sind Sie bei uns genau richtig. \nNutzen Sie unser Kontaktformular oder rufen Sie uns direkt an – wir freuen uns auf Ihre Anfrage und beraten Sie gerne persönlich! \nMesseprojektleiter für München: Herr Manuel Kempe \nKontaktdaten: Unser Team
URL:https://die-servicequelle.de/messetermin/messecatering-productronica/
LOCATION:Messe München\, Am Messesee 2\, München\, Bayern\, 81829\, Germany
END:VEVENT
BEGIN:VEVENT
DTSTART;VALUE=DATE:20251118
DTEND;VALUE=DATE:20251122
DTSTAMP:20260422T201624
CREATED:20250725T110730Z
LAST-MODIFIED:20250725T110730Z
UID:9197-1763424000-1763769599@die-servicequelle.de
SUMMARY:SEMICON EUROPA
DESCRIPTION:Unser Messecatering für die SEMICON EUROPA – Qualität\, die begeistert\n\nBei Die Servicequelle sind Sie genau richtig – wir bieten maßgeschneidertes Messecatering für die SEMICON EUROPA in München: vom hochwertigen Fingerfood über Kaffeebar bis hin zu frisch gemixten Cocktails. Perfekt für Ihren Markenauftritt – professionell\, flexibel und aufmerksam betreut. Auf der SEMICON EUROPA betreuen wir Messestände unterschiedlichster Größen und passen unser Catering flexibel an Ihre Anforderungen an. \n\n\nDie Messe Semicon Europa München ist die internationale Jahresausstellung für Halbleiterprodukte\, -stoffe und Dienstleistungen in Europa. Zahlreiche Aussteller präsentieren auf der Semicon Messe München ihre aktuellen Produkte und Dienstleistungen rund um die Halbleiterindustrie. Das vielfältige Angebotsspektrum umfasst dabei unter anderem Themenbereiche wie Halbleiter\, Nanoelektronik\, Photovoltaik\, Fertigungsausrüstung\, Materialien und Flat-Panel-Displays. Ein umfangreiches Rahmenprogramm mit verschiedenen Konferenzen bietet darüber hinaus auf der Semicon Europa München Messe eine Plattform für den Austausch und das Vorantreiben technologischer Fortschritte. \nSie suchen einen Partner für Messecatering auf der SEMICON EUROPA? Dann sind Sie bei uns genau richtig. \nNutzen Sie unser Kontaktformular oder rufen Sie uns direkt an – wir freuen uns auf Ihre Anfrage und beraten Sie gerne persönlich! \nMesseprojektleiter für München: Herr Manuel Kempe \nKontaktdaten: Unser Team
URL:https://die-servicequelle.de/messetermin/messecatering-semicon-europa/
LOCATION:Messe München\, Am Messesee 2\, München\, Bayern\, 81829\, Germany
END:VEVENT
BEGIN:VEVENT
DTSTART;VALUE=DATE:20251125
DTEND;VALUE=DATE:20251128
DTSTAMP:20260422T201624
CREATED:20250725T111104Z
LAST-MODIFIED:20250725T111104Z
UID:9199-1764028800-1764287999@die-servicequelle.de
SUMMARY:SPS
DESCRIPTION:Unser Messecatering für die SPS – Qualität\, die begeistert\n\nBei Die Servicequelle sind Sie genau richtig – wir bieten maßgeschneidertes Messecatering für die SPS in Nürnberg: vom hochwertigen Fingerfood über Kaffeebar bis hin zu frisch gemixten Cocktails. Perfekt für Ihren Markenauftritt – professionell\, flexibel und aufmerksam betreut. Auf der SPS betreuen wir Messestände unterschiedlichster Größen und passen unser Catering flexibel an Ihre Anforderungen an. \n\n\nDie Messe SPS in Nürnberg – Smart Production Solutions – (vormals SPS IPC Drives) ist eine internationale Fachmesse der industriellen Automation für elektrische Automatisierung\, Systeme & Komponenten. Eine Vielzahl an nationalen und internationalen Ausstellern informieren auf der SPS Messe Nürnberg über Produkte\, Innovationen und Trends der Branche und präsentieren das ganze Spektrum der elektrischen Automatisierung. Gezeigt werden dabei auf der Automatisierungsmesse alle Komponenten\, vom einfachen Sensor\, bis hin zu kompletten Systemen und integrierten Automatisierungslösungen. Besucher profitieren von innovativen Lösungen rund um das Thema Automatisierung und zahlreichen Produktvorstellungen. Ein vielfältiges\, fachliches Rahmenprogramm mit Podiumsdiskussionen\, Produktvorstellungen und Unternehmenspräsentationen auf den Messeforen ergänzt das Angebot der Automatisierungsmesse SPS in Nürnberg. \nSie suchen einen Partner für Messecatering auf der SPS? Dann sind Sie bei uns genau richtig. \nNutzen Sie unser Kontaktformular oder rufen Sie uns direkt an – wir freuen uns auf Ihre Anfrage und beraten Sie gerne persönlich! \nMesseprojektleiter für Nürnberg: Herr Manuel Kempe \nKontaktdaten: Unser Team
URL:https://die-servicequelle.de/messetermin/messecatering-sps/
LOCATION:Messe Nürnberg\, Messezentrum 1\, Nürnberg\, Bayern\, 90471\, Germany
END:VEVENT
END:VCALENDAR