BEGIN:VCALENDAR
VERSION:2.0
PRODID:-//Die Servicequelle® - Messefullservice Messecatering deutschlandweit - ECPv6.15.20//NONSGML v1.0//EN
CALSCALE:GREGORIAN
METHOD:PUBLISH
X-ORIGINAL-URL:https://die-servicequelle.de
X-WR-CALDESC:Veranstaltungen für Die Servicequelle® - Messefullservice Messecatering deutschlandweit
REFRESH-INTERVAL;VALUE=DURATION:PT1H
X-Robots-Tag:noindex
X-PUBLISHED-TTL:PT1H
BEGIN:VTIMEZONE
TZID:Europe/Berlin
BEGIN:DAYLIGHT
TZOFFSETFROM:+0100
TZOFFSETTO:+0200
TZNAME:CEST
DTSTART:20250330T010000
END:DAYLIGHT
BEGIN:STANDARD
TZOFFSETFROM:+0200
TZOFFSETTO:+0100
TZNAME:CET
DTSTART:20251026T010000
END:STANDARD
BEGIN:DAYLIGHT
TZOFFSETFROM:+0100
TZOFFSETTO:+0200
TZNAME:CEST
DTSTART:20260329T010000
END:DAYLIGHT
BEGIN:STANDARD
TZOFFSETFROM:+0200
TZOFFSETTO:+0100
TZNAME:CET
DTSTART:20261025T010000
END:STANDARD
BEGIN:DAYLIGHT
TZOFFSETFROM:+0100
TZOFFSETTO:+0200
TZNAME:CEST
DTSTART:20270328T010000
END:DAYLIGHT
BEGIN:STANDARD
TZOFFSETFROM:+0200
TZOFFSETTO:+0100
TZNAME:CET
DTSTART:20271031T010000
END:STANDARD
END:VTIMEZONE
BEGIN:VEVENT
DTSTART;VALUE=DATE:20261027
DTEND;VALUE=DATE:20261030
DTSTAMP:20260423T014841
CREATED:20251210T130437Z
LAST-MODIFIED:20251210T130437Z
UID:9491-1793059200-1793318399@die-servicequelle.de
SUMMARY:it-sa
DESCRIPTION:Unser Messecatering für die it-sa – Qualität\, die begeistert \nBei Die Servicequelle sind Sie genau richtig – wir bieten maßgeschneidertes Messecatering für die it-sa in Nürnberg: vom hochwertigen Fingerfood über Kaffeebar bis hin zu frisch gemixten Cocktails. Perfekt für Ihren Markenauftritt – professionell\, flexibel und aufmerksam betreut. Auf der it-sa betreuen wir Messestände unterschiedlichster Größen und passen unser Catering flexibel an Ihre Anforderungen an. \n\n\nDie Messe it-sa in Nürnberg ist eine IT-Security Messe und Kongress. Zahlreiche Aussteller präsentieren auf der it-sa Messe Nürnberg ihre Produkte und Dienstleistungen rund um die IT-Sicherheit. Das Angebotsspektrum der IT-Security-Messe Nürnberg umfasst dabei Lösungen zur Vermeidung von Hackerangriffen\, Hardwareausfällen\, Insiderkriminalität\, Diebstahl und Verlust von Notebooks und Speichermedien sowie nicht zuletzt Einbruchdiebstahl ganzer Rechnersysteme. Aber auch zu Awareness\, Brandschutz\, Daten- und Hardwaresicherung\, Internet- und Netzwerk-Sicherheit\, Prüfung und Zertifizierung sowie Speicherlösungen\, Zugriffs- und Zugangskontrollen sind Angebote auf der IT-Sicherheitsfachmesse zu finden. Verschiedene messebegleitende Veranstaltungen wie Tagungen\, Workshops\, Tutorien und Mitgliederversammlungen rund um die IT-Sicherheit ergänzen das Angebotsspektrum der it-sa Nürnberg Messe. \n \nSie suchen einen Partner für Messecatering auf der it-sa? Dann sind Sie bei uns genau richtig. \nNutzen Sie unser Kontaktformular oder rufen Sie uns direkt an – wir freuen uns auf Ihre Anfrage und beraten Sie gerne persönlich! \nMesseprojektleiter für Nürnberg: Herr Manuel Kempe
URL:https://die-servicequelle.de/messetermin/messecatering-it-sa/
LOCATION:Messe Nürnberg\, Messezentrum 1\, Nürnberg\, Bayern\, 90471\, Germany
END:VEVENT
BEGIN:VEVENT
DTSTART;VALUE=DATE:20261027
DTEND;VALUE=DATE:20261031
DTSTAMP:20260423T014841
CREATED:20250725T142905Z
LAST-MODIFIED:20250725T142905Z
UID:9304-1793059200-1793404799@die-servicequelle.de
SUMMARY:ORGATEC
DESCRIPTION:Unser Messecatering für die ORGATEC – Qualität\, die begeistert\n\nBei Die Servicequelle sind Sie genau richtig – wir bieten maßgeschneidertes Messecatering für die ORGATEC in Köln: vom hochwertigen Fingerfood über Kaffeebar bis hin zu frisch gemixten Cocktails. Perfekt für Ihren Markenauftritt – professionell\, flexibel und aufmerksam betreut. Auf der ORGATEC betreuen wir Messestände unterschiedlichster Größen und passen unser Catering flexibel an Ihre Anforderungen an. \n\nDie Messe ORGATEC Köln ist die Messe für Moderne Arbeitswelten. Eine Vielzahl an Ausstellern aus über 30 Ländern präsentieren sich auf der ORGATEC Messe Köln und zeigen ganzheitliche Lösungen und Produkte aus allen relevanten Bereichen rund um die Arbeitskultur\, Arbeitsprozesse und Arbeitsumgebungen\, die zum Unternehmenserfolg beitragen. Dabei bietet die Leitmesse für Arbeitswelten nicht nur einen Überblick über den nahezu vollständig vertretenen Weltmarkt für Einrichtung\, Licht\, Boden\, Akustik und Medientechnik im Büro- und Objektbereich. Auch das Event- und Kongressprogramm der ORGATEC rückt aktuelle Trends und Entwicklungen sowie Praxisbeispiele aus aller Welt in den Mittelpunkt. Thematisiert werden neue Konzepte zu den aktuellen Trendthemen Teamarbeit\, Digitalisierung\, ganzheitliche Raumeinrichtungen und Arbeitsplatzattraktivität. Die ORGATEC in Köln ist weltweit die Leitmesse für Ausstattung und Einrichtung von Büro und Objekt. Als erfolgreiche Präsentationsplattform und als Treffpunkt für alle Marktbeteiligten rund um Ausstattung und Einrichtung von Büro und Objekt gibt sie zukunftsweisende Impulse. \nSie suchen einen Partner für Messecatering auf der ORGATEC? Dann sind Sie bei uns genau richtig. \nNutzen Sie unser Kontaktformular oder rufen Sie uns direkt an – wir freuen uns auf Ihre Anfrage und beraten Sie gerne persönlich! \nMesseprojektleiter für Köln: Herr Ingmar Beermann \nKontaktdaten: Unser Team
URL:https://die-servicequelle.de/messetermin/messecatering-orgatec/
LOCATION:Messe Köln\, Messepl. 1\, Köln\, 50679\, Germany
END:VEVENT
END:VCALENDAR