BEGIN:VCALENDAR
VERSION:2.0
PRODID:-//Die Servicequelle® - Messefullservice Messecatering deutschlandweit - ECPv6.15.20//NONSGML v1.0//EN
CALSCALE:GREGORIAN
METHOD:PUBLISH
X-ORIGINAL-URL:https://die-servicequelle.de
X-WR-CALDESC:Veranstaltungen für Die Servicequelle® - Messefullservice Messecatering deutschlandweit
REFRESH-INTERVAL;VALUE=DURATION:PT1H
X-Robots-Tag:noindex
X-PUBLISHED-TTL:PT1H
BEGIN:VTIMEZONE
TZID:Europe/Berlin
BEGIN:DAYLIGHT
TZOFFSETFROM:+0100
TZOFFSETTO:+0200
TZNAME:CEST
DTSTART:20250330T010000
END:DAYLIGHT
BEGIN:STANDARD
TZOFFSETFROM:+0200
TZOFFSETTO:+0100
TZNAME:CET
DTSTART:20251026T010000
END:STANDARD
BEGIN:DAYLIGHT
TZOFFSETFROM:+0100
TZOFFSETTO:+0200
TZNAME:CEST
DTSTART:20260329T010000
END:DAYLIGHT
BEGIN:STANDARD
TZOFFSETFROM:+0200
TZOFFSETTO:+0100
TZNAME:CET
DTSTART:20261025T010000
END:STANDARD
BEGIN:DAYLIGHT
TZOFFSETFROM:+0100
TZOFFSETTO:+0200
TZNAME:CEST
DTSTART:20270328T010000
END:DAYLIGHT
BEGIN:STANDARD
TZOFFSETFROM:+0200
TZOFFSETTO:+0100
TZNAME:CET
DTSTART:20271031T010000
END:STANDARD
END:VTIMEZONE
BEGIN:VEVENT
DTSTART;VALUE=DATE:20261020
DTEND;VALUE=DATE:20261024
DTSTAMP:20260423T014929
CREATED:20250725T142404Z
LAST-MODIFIED:20250725T142404Z
UID:9300-1792454400-1792799999@die-servicequelle.de
SUMMARY:EUROBLECH
DESCRIPTION:Unser Messecatering für die EUROBLECH – Qualität\, die begeistert\n\nBei Die Servicequelle sind Sie genau richtig – wir bieten maßgeschneidertes Messecatering für die EUROBLECH in Hannover: vom hochwertigen Fingerfood über Kaffeebar bis hin zu frisch gemixten Cocktails. Perfekt für Ihren Markenauftritt – professionell\, flexibel und aufmerksam betreut. Auf der EUROBLECH betreuen wir Messestände unterschiedlichster Größen und passen unser Catering flexibel an Ihre Anforderungen an. \n\n\nDie Messe EuroBLECH Hannover ist eine internationale Technologiemesse für Blechbearbeitung. Zahlreiche Aussteller aus rund 40 Ländern präsentieren sich auf der EuroBLECH Messe Hannover mit ihren Produkten und Dienstleistungen und bilden die vollständige Prozess- und Technologiekette der Blechbearbeitung ab. Das Angebotsspektrum Blechbearbeitungsmesse umfasst unter anderem Halbzeuge\, Zulieferteile\, Handling\, Trennen und Umformen\, flexible Blechbearbeitung\, Fügen\, Schweißen\, Rohr- und Profilbearbeitung\, Verarbeitung hybrider Strukturen\, Oberflächenbearbeitung\, Werkzeuge\, additive Fertigung\, Steuerungs- und Regeltechnik\, CAD-\, CAM- und CIM-Systeme\, Qualitätssicherung\, Betriebseinrichtung und Forschung & Entwicklung. Die Blechmesse EuroBLECH Hannover präsentiert innovative Produkte und intelligente Lösungen und ist der wichtigste Marktplatz dieses Industriezweiges für weltweite Geschäfte und Plattform für Ideen und Know-how. \nSie suchen einen Partner für Messecatering auf der EUROBLECH? Dann sind Sie bei uns genau richtig. \nNutzen Sie unser Kontaktformular oder rufen Sie uns direkt an – wir freuen uns auf Ihre Anfrage und beraten Sie gerne persönlich! \nMesseprojektleiter für Hannover: Herr Ralf Tempelmann \nKontaktdaten: Unser Team
URL:https://die-servicequelle.de/messetermin/messecatering-euroblech/
LOCATION:Messe Hannover\, Messegelände\, Hannover\, Niedersachsen\, 30521\, Germany
END:VEVENT
BEGIN:VEVENT
DTSTART;VALUE=DATE:20261020
DTEND;VALUE=DATE:20261024
DTSTAMP:20260423T014929
CREATED:20250725T142638Z
LAST-MODIFIED:20250725T142638Z
UID:9302-1792454400-1792799999@die-servicequelle.de
SUMMARY:glasstec
DESCRIPTION:Unser Messecatering für die glasstec – Qualität\, die begeistert\n\nBei Die Servicequelle sind Sie genau richtig – wir bieten maßgeschneidertes Messecatering für die glasstec in Düsseldorf: vom hochwertigen Fingerfood über Kaffeebar bis hin zu frisch gemixten Cocktails. Perfekt für Ihren Markenauftritt – professionell\, flexibel und aufmerksam betreut. Auf der glasstec betreuen wir Messestände unterschiedlichster Größen und passen unser Catering flexibel an Ihre Anforderungen an. \n\n\nDie Messe glasstec in Düsseldorf ist die weltweit größte und internationalste Fachmesse der Glasbranche und ihrer Zulieferer. Mehr als 1.200 nationale und internationale Aussteller präsentieren auf der glasstec Messe in Düsseldorf zukunftsweisende Bearbeitungstechniken\, neue Glasanwendungen und aktuelle Produktinnovationen aus den Bereichen Glasindustrie\, Glasmaschinen- und Anlagenbau sowie dem Glaserhandwerk. Das Angebotsspektrum der Glasmesse Düsseldorf umfasst dabei Glasherstellung\, Produktionstechnik\, Glasbearbeitung und -veredelung\, Werkzeuge\, Ersatz- und Verschleißteile\, Meß-\, Steuer- und Regeltechnik für Glas- und Glasmaschinen\, Glasanwendung im Bau- und Fassadenbereich\, sowie auch Solarenergie\, transparente Wärmedämmung\, Displayglas und Lasertechnologien. Verschiedene Sonderschauen und Konferenzen beleuchten darüber hinaus auf der glasstec Düsseldorf Messe aktuelle Themen der Branche und geben neue Impulse für die Architektur. \nSie suchen einen Partner für Messecatering auf der glasstec? Dann sind Sie bei uns genau richtig. \nNutzen Sie unser Kontaktformular oder rufen Sie uns direkt an – wir freuen uns auf Ihre Anfrage und beraten Sie gerne persönlich! \nMesseprojektleiter für Düsseldorf: Herr Ingmar Beermann \nKontaktdaten: Unser Team
URL:https://die-servicequelle.de/messetermin/messecatering-glasstec/
LOCATION:Messe Düsseldorf\, Stockumer Kirchstraße 61\, Düsseldorf\, Nordrheinwestfalen\, 40474\, Germany
END:VEVENT
END:VCALENDAR