BEGIN:VCALENDAR
VERSION:2.0
PRODID:-//Die Servicequelle® - Messefullservice Messecatering deutschlandweit - ECPv6.15.20//NONSGML v1.0//EN
CALSCALE:GREGORIAN
METHOD:PUBLISH
X-WR-CALNAME:Die Servicequelle® - Messefullservice Messecatering deutschlandweit
X-ORIGINAL-URL:https://die-servicequelle.de
X-WR-CALDESC:Veranstaltungen für Die Servicequelle® - Messefullservice Messecatering deutschlandweit
REFRESH-INTERVAL;VALUE=DURATION:PT1H
X-Robots-Tag:noindex
X-PUBLISHED-TTL:PT1H
BEGIN:VTIMEZONE
TZID:Europe/Berlin
BEGIN:DAYLIGHT
TZOFFSETFROM:+0100
TZOFFSETTO:+0200
TZNAME:CEST
DTSTART:20250330T010000
END:DAYLIGHT
BEGIN:STANDARD
TZOFFSETFROM:+0200
TZOFFSETTO:+0100
TZNAME:CET
DTSTART:20251026T010000
END:STANDARD
BEGIN:DAYLIGHT
TZOFFSETFROM:+0100
TZOFFSETTO:+0200
TZNAME:CEST
DTSTART:20260329T010000
END:DAYLIGHT
BEGIN:STANDARD
TZOFFSETFROM:+0200
TZOFFSETTO:+0100
TZNAME:CET
DTSTART:20261025T010000
END:STANDARD
BEGIN:DAYLIGHT
TZOFFSETFROM:+0100
TZOFFSETTO:+0200
TZNAME:CEST
DTSTART:20270328T010000
END:DAYLIGHT
BEGIN:STANDARD
TZOFFSETFROM:+0200
TZOFFSETTO:+0100
TZNAME:CET
DTSTART:20271031T010000
END:STANDARD
END:VTIMEZONE
BEGIN:VEVENT
DTSTART;VALUE=DATE:20261012
DTEND;VALUE=DATE:20261017
DTSTAMP:20260423T014615
CREATED:20250725T141048Z
LAST-MODIFIED:20250725T141048Z
UID:9293-1791763200-1792195199@die-servicequelle.de
SUMMARY:Fakuma
DESCRIPTION:Unser Messecatering für die Fakuma – Qualität\, die begeistert \nBei Die Servicequelle sind Sie genau richtig – wir bieten maßgeschneidertes Messecatering für die Fakuma in Friedrichshafen: vom hochwertigen Fingerfood über Kaffeebar bis hin zu frisch gemixten Cocktails. Perfekt für Ihren Markenauftritt – professionell\, flexibel und aufmerksam betreut. Auf der Fakuma betreuen wir Messestände unterschiedlichster Größen und passen unser Catering flexibel an Ihre Anforderungen an. \nDie Messe Fakuma in Friedrichshafen ist die internationale Fachmesse für Kunststoffverarbeitung. Rund 1.800 Aussteller aus über 30 Ländern präsentieren auf der Fakuma Messe Friedrichshafen ein breitgefächertes Angebot rund um die Themen Spritzgießtechnik\, Extrudieren und Thermo-Forming und bieten Anwendern einen vollständigen Überblick über alle für die Kunststoffbe- und -verarbeitung relevanten Verfahren\, Technologien und Tools. Das Angebotsspektrum umfasst dabei Verarbeitungsmaschinen und dazugehöriger Peripherie\, Rohmaterialien und Anwendungen\, Automatisierungslösungen und C-Techniken. Ein hochkarätiges Rahmenprogramm mit vielfältigen\, Know-how intensiven Fachvorträgen beleuchtet die Fakuma Friedrichshafen darüber hinaus in der Theorie alle Aspekte. \nSie suchen einen Partner für Messecatering auf der Fakuma? Dann sind Sie bei uns genau richtig. \nNutzen Sie unser Kontaktformular oder rufen Sie uns direkt an – wir freuen uns auf Ihre Anfrage und beraten Sie gerne persönlich! \nMesseprojektleiter für Friedrichshafen: Herr Manuel Kempe \nKontaktdaten: Unser Team
URL:https://die-servicequelle.de/messetermin/messecatering-fakuma/
LOCATION:Messe Friedrichshafen\, Neue Messe 1\, Friedrichshafen\, Baden-Württemberg\, 88046
END:VEVENT
BEGIN:VEVENT
DTSTART;VALUE=DATE:20261013
DTEND;VALUE=DATE:20261016
DTSTAMP:20260423T014615
CREATED:20250725T141851Z
LAST-MODIFIED:20250725T141851Z
UID:9296-1791849600-1792108799@die-servicequelle.de
SUMMARY:belektro
DESCRIPTION:Unser Messecatering für die belektro – Qualität\, die begeistert \nBei Die Servicequelle sind Sie genau richtig – wir bieten maßgeschneidertes Messecatering für die belektro in Berlin: vom hochwertigen Fingerfood über Kaffeebar bis hin zu frisch gemixten Cocktails. Perfekt für Ihren Markenauftritt – professionell\, flexibel und aufmerksam betreut. Auf der belektro betreuen wir Messestände unterschiedlichster Größen und passen unser Catering flexibel an Ihre Anforderungen an. \n\n\nDie Messe belektro Berlin ist die Fachmesse für Elektro-\, Digital- und Gebäudetechnik die unter einem Dach mit der gedatec – Fachmesse für Gebäudetechnik stattfindet. Auf der belektro Messe Berlin zeigen zahlreiche Aussteller das gesamte Spektrum der vernetzen Gebäudetechnik – von Elektrotechnik und Licht\, über Heizungstechnik\, Erneuerbare Energien\, Klima- und Lüftungstechnik bis hin zu Werkzeugen\, Software und Digitaltechnik. Besonders im Fokus stehen auf der Elektrotechnik-Messe Produkte und Dienstleistungen zur Umsetzung der Energiewende im Gebäudewesen. Das Rahmenprogramm der belektro ist ebenso vielseitig\, wie das Angebotsspektrum. Jede Besucherzielgruppe der Digitaltechnik-Messe erhält passend zu ihren Interessen und individuellen Fragestellungen Informationsformate angeboten. Sonderschauen\, Fachforen und Seminare behandeln alle relevanten Themen\, mit denen sich die Branche aktuell beschäftigt. Die Palette des Rahmenprogramms der Gebäudetechnik-Messe belektro reicht von A wie Arbeitssicherheit und Architektenprogramm über E wie E-Haus und Elektromobilität und S wie Smart Home bis zu W wie Werkstattstraße. Als Fachmesse für Elektro-\, Digital- und Gebäudetechnik begeistert die belektro in Berlin seit Jahrzehnten Profis der E-Branche. \nSie suchen einen Partner für Messecatering auf der belektro? Dann sind Sie bei uns genau richtig. \nNutzen Sie unser Kontaktformular oder rufen Sie uns direkt an – wir freuen uns auf Ihre Anfrage und beraten Sie gerne persönlich! \nMesseprojektleiter für Berlin: Herr Ralf Tempelmann \nKontaktdaten: Unser Team
URL:https://die-servicequelle.de/messetermin/messecatering-belektro/
LOCATION:Messe Berlin\, Messedamm 22\, Berlin\, Berlin\, 14055\, Germany
END:VEVENT
BEGIN:VEVENT
DTSTART;VALUE=DATE:20261013
DTEND;VALUE=DATE:20261016
DTSTAMP:20260423T014615
CREATED:20250725T142127Z
LAST-MODIFIED:20250725T142127Z
UID:9298-1791849600-1792108799@die-servicequelle.de
SUMMARY:Chillventa
DESCRIPTION:Unser Messecatering für die Chillventa – Qualität\, die begeistert\n\nBei Die Servicequelle sind Sie genau richtig – wir bieten maßgeschneidertes Messecatering für die Chillventa in Nürnberg: vom hochwertigen Fingerfood über Kaffeebar bis hin zu frisch gemixten Cocktails. Perfekt für Ihren Markenauftritt – professionell\, flexibel und aufmerksam betreut. Auf der Chillventa betreuen wir Messestände unterschiedlichster Größen und passen unser Catering flexibel an Ihre Anforderungen an. \n\n\nDie Messe Chillventa Nürnberg ist die internationale Fachmesse für Kälte\, Klima\, Lüftung und Wärmepumpen für Gewerbe und Industrie. Eine Vielzahl an Ausstellern präsentieren sich auf der Chillventa Messe Nürnberg und bieten einen Überblick über das umfassende Fachangebot der Industrie mit Komponenten\, Systemen und Anwendungen für die Bereiche Kälte\, Klima\, Lüftung und Wärmepumpen und zeigen die aktuellen Entwicklungen für die vielfältigen Anwendungen dieser Branchen. Die Kernthemen der Fachmesse sind dabei Kälte-\, Klima- und Isoliertechnik\, MSR-Technik und Automation\, Lüftung\, Wärmepumpen und entsprechende Dienstleistungen. Neben Innovationen auf den Ständen der Aussteller gibt es darüber hinaus spannende Sonderpräsentationen zu den Themen Wärmepumpen\, Hygiene in luftbeaufschlagten Wärmeübertragern\, Rundgänge für Auszubildende und den Award. Der Congress bietet darüber hinaus einen dezidierten Einblick für die Experten in die aktuellen Branchenthemen. Renommierte\, internationale Referenten vermitteln Wissen aus Forschung\, Entwicklung und Praxis und informieren über die aktuellen politischen Rahmenbedingungen in Europa und weltweit. In den Fachforen parallel zur Fachmesse\, präsentieren sich zudem namhafte Referenten mit wegweisenden Themen in über 150 Vorträgen. Die Chillventa Nürnberg bietet die perfekte Gelegenheit\, sich mit den Experten aus aller Welt zu den neuesten Entwicklungen rund um Energieeffizienz\, Nachhaltigkeit und Automatisierung auszutauschen\, Netzwerke zu pflegen und zu erweitern und langfristige Beziehungen aufzubauen. \nSie suchen einen Partner für Messecatering auf der Chillventa? Dann sind Sie bei uns genau richtig. \nNutzen Sie unser Kontaktformular oder rufen Sie uns direkt an – wir freuen uns auf Ihre Anfrage und beraten Sie gerne persönlich! \nMesseprojektleiter für Nürnberg: Herr Manuel Kempe \nKontaktdaten: Unser Team
URL:https://die-servicequelle.de/messetermin/messecatering-chillventa/
LOCATION:Messe Nürnberg\, Messezentrum 1\, Nürnberg\, Bayern\, 90471\, Germany
END:VEVENT
END:VCALENDAR