BEGIN:VCALENDAR
VERSION:2.0
PRODID:-//Die Servicequelle® - Messefullservice Messecatering deutschlandweit - ECPv6.15.20//NONSGML v1.0//EN
CALSCALE:GREGORIAN
METHOD:PUBLISH
X-ORIGINAL-URL:https://die-servicequelle.de
X-WR-CALDESC:Veranstaltungen für Die Servicequelle® - Messefullservice Messecatering deutschlandweit
REFRESH-INTERVAL;VALUE=DURATION:PT1H
X-Robots-Tag:noindex
X-PUBLISHED-TTL:PT1H
BEGIN:VTIMEZONE
TZID:Europe/Berlin
BEGIN:DAYLIGHT
TZOFFSETFROM:+0100
TZOFFSETTO:+0200
TZNAME:CEST
DTSTART:20250330T010000
END:DAYLIGHT
BEGIN:STANDARD
TZOFFSETFROM:+0200
TZOFFSETTO:+0100
TZNAME:CET
DTSTART:20251026T010000
END:STANDARD
BEGIN:DAYLIGHT
TZOFFSETFROM:+0100
TZOFFSETTO:+0200
TZNAME:CEST
DTSTART:20260329T010000
END:DAYLIGHT
BEGIN:STANDARD
TZOFFSETFROM:+0200
TZOFFSETTO:+0100
TZNAME:CET
DTSTART:20261025T010000
END:STANDARD
BEGIN:DAYLIGHT
TZOFFSETFROM:+0100
TZOFFSETTO:+0200
TZNAME:CEST
DTSTART:20270328T010000
END:DAYLIGHT
BEGIN:STANDARD
TZOFFSETFROM:+0200
TZOFFSETTO:+0100
TZNAME:CET
DTSTART:20271031T010000
END:STANDARD
END:VTIMEZONE
BEGIN:VEVENT
DTSTART;VALUE=DATE:20261005
DTEND;VALUE=DATE:20261008
DTSTAMP:20260422T234211
CREATED:20251210T113916Z
LAST-MODIFIED:20251210T113916Z
UID:9482-1791158400-1791417599@die-servicequelle.de
SUMMARY:expo real
DESCRIPTION:Unser Messecatering für die expo real – Qualität\, die begeistert \nBei Die Servicequelle sind Sie genau richtig – wir bieten maßgeschneidertes Messecatering für die expo real in München: vom hochwertigen Fingerfood über Kaffeebar bis hin zu frisch gemixten Cocktails. Perfekt für Ihren Markenauftritt – professionell\, flexibel und aufmerksam betreut. Auf der expo real betreuen wir Messestände unterschiedlichster Größen und passen unser Catering flexibel an Ihre Anforderungen an. \n\n\nDie Messe EXPO REAL in München ist die internationale Fachmesse für Immobilien und Investitionen. Eine Vielzahl an Ausstellern aus über 30 Ländern präsentieren sich auf der EXPO REAL Messe München und zeigen Produkte\, Dienstleistungen und Services rund um die gesamte Wertschöpfungskette der internationalen Immobilienbranche – von der Idee und Konzeption über die Finanzierung und Realisierung bis hin zu Vermarktung\, Betrieb und Nutzung. Zu den Ausstellern zählen Immobilienberater und Projektentwickler\, Banken und Investoren\, Corporate Real Estate Manager\, Städte und Wirtschaftsregionen sowie Dienstleister rund um die Immobilie. Als größte B2B-Fachmesse in Europa bietet die Immobilienmesse beste Bedingungen für effizientes Networking und umfassende Möglichkeiten zur Marktorientierung und -sondierung. Das vielseitige Konferenzprogramm der EXPO REAL in München bietet einen fundierten Überblick\, Information und Orientierung bei übergreifenden Themen der internationalen Immobilienwirtschaft\, bei einzelnen Bereichen und Segmenten und über eine Reihe von Investmentmärkten. \n \nSie suchen einen Partner für Messecatering auf der expo real? Dann sind Sie bei uns genau richtig. \nNutzen Sie unser Kontaktformular oder rufen Sie uns direkt an – wir freuen uns auf Ihre Anfrage und beraten Sie gerne persönlich! \nMesseprojektleiter für München: Herr Manuel Kempe
URL:https://die-servicequelle.de/messetermin/messecatering-expo-real/
LOCATION:Messe München\, Am Messesee 2\, München\, Bayern\, 81829\, Germany
END:VEVENT
END:VCALENDAR