BEGIN:VCALENDAR
VERSION:2.0
PRODID:-//Die Servicequelle® - Messefullservice Messecatering deutschlandweit - ECPv6.15.20//NONSGML v1.0//EN
CALSCALE:GREGORIAN
METHOD:PUBLISH
X-WR-CALNAME:Die Servicequelle® - Messefullservice Messecatering deutschlandweit
X-ORIGINAL-URL:https://die-servicequelle.de
X-WR-CALDESC:Veranstaltungen für Die Servicequelle® - Messefullservice Messecatering deutschlandweit
REFRESH-INTERVAL;VALUE=DURATION:PT1H
X-Robots-Tag:noindex
X-PUBLISHED-TTL:PT1H
BEGIN:VTIMEZONE
TZID:Europe/Berlin
BEGIN:DAYLIGHT
TZOFFSETFROM:+0100
TZOFFSETTO:+0200
TZNAME:CEST
DTSTART:20250330T010000
END:DAYLIGHT
BEGIN:STANDARD
TZOFFSETFROM:+0200
TZOFFSETTO:+0100
TZNAME:CET
DTSTART:20251026T010000
END:STANDARD
BEGIN:DAYLIGHT
TZOFFSETFROM:+0100
TZOFFSETTO:+0200
TZNAME:CEST
DTSTART:20260329T010000
END:DAYLIGHT
BEGIN:STANDARD
TZOFFSETFROM:+0200
TZOFFSETTO:+0100
TZNAME:CET
DTSTART:20261025T010000
END:STANDARD
BEGIN:DAYLIGHT
TZOFFSETFROM:+0100
TZOFFSETTO:+0200
TZNAME:CEST
DTSTART:20270328T010000
END:DAYLIGHT
BEGIN:STANDARD
TZOFFSETFROM:+0200
TZOFFSETTO:+0100
TZNAME:CET
DTSTART:20271031T010000
END:STANDARD
END:VTIMEZONE
BEGIN:VEVENT
DTSTART;VALUE=DATE:20260922
DTEND;VALUE=DATE:20260930
DTSTAMP:20260422T200905
CREATED:20250725T140229Z
LAST-MODIFIED:20250725T140229Z
UID:9286-1790035200-1790726399@die-servicequelle.de
SUMMARY:WOTS
DESCRIPTION:Unser Messecatering für die WOTS – Qualität\, die begeistert\n\nBei Die Servicequelle sind Sie genau richtig – wir bieten maßgeschneidertes Messecatering für die WOTS in Utrecht: vom hochwertigen Fingerfood über Kaffeebar bis hin zu frisch gemixten Cocktails. Perfekt für Ihren Markenauftritt – professionell\, flexibel und aufmerksam betreut. Auf der WOTS betreuen wir Messestände unterschiedlichster Größen und passen unser Catering flexibel an Ihre Anforderungen an. \n\n\nDie Messe World of Technology & Science in Utrecht (Wots) ist eine Fachmesse für industrielle Automatisierungs- und Antriebstechnik der Prozess- und Fertigungsindustrie. Zahlreiche Aussteller präsentieren sich auf der World of Technology & Science Messe Utrecht mit ihren Produkten und Dienstleistungen in den Themenwelten World of Industry\, World of Laboratory und World of Electronics. Dabei hat jede Branche auf der Wots in Utrecht ihre eigene Identität\, ein eigenes Ausstellungsprogramm und Ausstellungsprojekte. Verschiedene Seminare\, Ausstellungsprojekte und andere Aktivitäten informieren die Besucher der Utrecht World of Technology & Science Messe darüber hinaus über neue Entwicklungen und Innovationen. \nSie suchen einen Partner für Messecatering auf der Utrecht? Dann sind Sie bei uns genau richtig. \nNutzen Sie unser Kontaktformular oder rufen Sie uns direkt an – wir freuen uns auf Ihre Anfrage und beraten Sie gerne persönlich! \nMesseprojektleiter für Utrecht: Herr Ralf Tempelmann \nKontaktdaten: Unser Team
URL:https://die-servicequelle.de/messetermin/messecatering-wots/
LOCATION:Messe Utrecht\, Jaarbeursplain 6\, Utrecht\, AL\, 3521\, Netherlands
END:VEVENT
END:VCALENDAR