BEGIN:VCALENDAR
VERSION:2.0
PRODID:-//Die Servicequelle® - Messefullservice Messecatering deutschlandweit - ECPv6.15.20//NONSGML v1.0//EN
CALSCALE:GREGORIAN
METHOD:PUBLISH
X-WR-CALNAME:Die Servicequelle® - Messefullservice Messecatering deutschlandweit
X-ORIGINAL-URL:https://die-servicequelle.de
X-WR-CALDESC:Veranstaltungen für Die Servicequelle® - Messefullservice Messecatering deutschlandweit
REFRESH-INTERVAL;VALUE=DURATION:PT1H
X-Robots-Tag:noindex
X-PUBLISHED-TTL:PT1H
BEGIN:VTIMEZONE
TZID:Europe/Berlin
BEGIN:DAYLIGHT
TZOFFSETFROM:+0100
TZOFFSETTO:+0200
TZNAME:CEST
DTSTART:20250330T010000
END:DAYLIGHT
BEGIN:STANDARD
TZOFFSETFROM:+0200
TZOFFSETTO:+0100
TZNAME:CET
DTSTART:20251026T010000
END:STANDARD
BEGIN:DAYLIGHT
TZOFFSETFROM:+0100
TZOFFSETTO:+0200
TZNAME:CEST
DTSTART:20260329T010000
END:DAYLIGHT
BEGIN:STANDARD
TZOFFSETFROM:+0200
TZOFFSETTO:+0100
TZNAME:CET
DTSTART:20261025T010000
END:STANDARD
BEGIN:DAYLIGHT
TZOFFSETFROM:+0100
TZOFFSETTO:+0200
TZNAME:CEST
DTSTART:20270328T010000
END:DAYLIGHT
BEGIN:STANDARD
TZOFFSETFROM:+0200
TZOFFSETTO:+0100
TZNAME:CET
DTSTART:20271031T010000
END:STANDARD
END:VTIMEZONE
BEGIN:VEVENT
DTSTART;VALUE=DATE:20260828
DTEND;VALUE=DATE:20260907
DTSTAMP:20260422T202817
CREATED:20251210T112820Z
LAST-MODIFIED:20251210T112820Z
UID:9474-1787875200-1788739199@die-servicequelle.de
SUMMARY:CARAVAN SALON
DESCRIPTION:Unser Messecatering für die CARAVAN SALON – Qualität\, die begeistert \nBei Die Servicequelle sind Sie genau richtig – wir bieten maßgeschneidertes Messecatering für die CARAVAN SALON in Düsseldorf: vom hochwertigen Fingerfood über Kaffeebar bis hin zu frisch gemixten Cocktails. Perfekt für Ihren Markenauftritt – professionell\, flexibel und aufmerksam betreut. Auf der CARAVAN SALON betreuen wir Messestände unterschiedlichster Größen und passen unser Catering flexibel an Ihre Anforderungen an. \n\n\nDie Messe CARAVAN SALON DÜSSELDORF ist die weltgrößte Messe für Reisemobile und Caravans. Die internationalen Aussteller zeigen Ihnen auf der CARAVAN SALON MESSE DÜSSELDORF die ganze Welt des mobilen Reisens und stellen Ihnen aktuelle Caravan- und Reisemobilmarken\, aktuelle Fahrzeugtrends und Neuheiten sowie die schönsten Routen und Urlaubsdestinationen vor. Als Besucher dürfen Sie sich auf ein umfassendes Angebot und die gesamte Fahrzeugvielfalt von kompakten Campervans über familienfreundliche Caravans und Reisemobile bis hin zu geräumigen Luxus-Mobilen freuen. Abgerundet wird das Angebot durch den Bereich Technology & Components\, in dem sich die europäische und internationale Zubehör- und Zulieferindustrie umfassend präsentiert. In der Starterwelt erhalten Sie als Neuling neben einer neutralen Beratung auch jede Menge nützliche Expertentipps und Caravaning Basics. Erleben Sie außerdem ein buntes Programm zu interessanten Reisezielen\, Ausflugsdestinationen und Naturerlebnissen. Lernen Sie attraktive Regionen nah und fern kennen und lassen Sie sich inspirieren. Der CARAVAN SALON DÜSSELDORF zeigt auf\, was in der Branche Thema ist\, was sie in Zukunft bewegt und wo die Reise technisch hingeht. Er informiert und unterhält\, er bringt Freunde und Wettbewerber zusammen und ist ein großes Familien- und Branchentreffen und das Zentrum der weltweiten Caravaningwelt. \n \nSie suchen einen Partner für Messecatering auf der CARAVAN SALON? Dann sind Sie bei uns genau richtig. \nNutzen Sie unser Kontaktformular oder rufen Sie uns direkt an – wir freuen uns auf Ihre Anfrage und beraten Sie gerne persönlich! \nMesseprojektleiter für Düsseldorf: Herr Ingmar Beermann
URL:https://die-servicequelle.de/messetermin/messecatering-caravan-salon/
LOCATION:Messe Düsseldorf\, Stockumer Kirchstraße 61\, Düsseldorf\, Nordrheinwestfalen\, 40474\, Germany
END:VEVENT
BEGIN:VEVENT
DTSTART;VALUE=DATE:20260901
DTEND;VALUE=DATE:20260905
DTSTAMP:20260422T202817
CREATED:20251210T113047Z
LAST-MODIFIED:20251210T113047Z
UID:9476-1788220800-1788566399@die-servicequelle.de
SUMMARY:SMM
DESCRIPTION:Unser Messecatering für die SMM – Qualität\, die begeistert \nBei Die Servicequelle sind Sie genau richtig – wir bieten maßgeschneidertes Messecatering für die SMM in Hamburg: vom hochwertigen Fingerfood über Kaffeebar bis hin zu frisch gemixten Cocktails. Perfekt für Ihren Markenauftritt – professionell\, flexibel und aufmerksam betreut. Auf der SMM betreuen wir Messestände unterschiedlichster Größen und passen unser Catering flexibel an Ihre Anforderungen an. \n\n\nDie Messe SMM in Hamburg ist Weltleitmesse der maritimen Wirtschaft. Eine Vielzahl an Ausstellern aus fast 100 Ländern präsentieren auf der SMM Messe Hamburg ihre neuesten Entwicklungen der internationalen Schiffbauindustrie. Unter den Ausstellern sind die wichtigen Werften der führenden Schiffbauländer\, die Marktführer der maritimen Zulieferindustrie sowie kleine und mittlere Unternehmen mit neuen Technologie- und Produktentwicklungen. Als Ideen- und Impulsgeber bringt sie Entscheider aus allen Teilen der Welt zusammen und ist eine feste Größe in der maritimen Wirtschaft und die ideale Plattform für Innovationen\, Austausch\, Inspiration\, praxisorientierte Lösungen und Vertragsabschlüsse. Begleitet wird die SMM in Hamburg von einem hochkarätigen Rahmenprogramm mit rund 150 Workshops\, Symposien und Konferenzen\, die alle derzeit virulenten Themen der Schiffbaubranche abdecken. \n \nSie suchen einen Partner für Messecatering auf der SMM? Dann sind Sie bei uns genau richtig. \nNutzen Sie unser Kontaktformular oder rufen Sie uns direkt an – wir freuen uns auf Ihre Anfrage und beraten Sie gerne persönlich! \nMesseprojektleiter für Hamburg: Herr Ralf Tempelmann
URL:https://die-servicequelle.de/messetermin/messecatering-smm/
LOCATION:Messe Hamburg\, Messeplatz 1\, Hamburg\, Hamburg\, 20357\, Germany
END:VEVENT
END:VCALENDAR