BEGIN:VCALENDAR
VERSION:2.0
PRODID:-//Die Servicequelle® - Messefullservice Messecatering deutschlandweit - ECPv6.15.20//NONSGML v1.0//EN
CALSCALE:GREGORIAN
METHOD:PUBLISH
X-ORIGINAL-URL:https://die-servicequelle.de
X-WR-CALDESC:Veranstaltungen für Die Servicequelle® - Messefullservice Messecatering deutschlandweit
REFRESH-INTERVAL;VALUE=DURATION:PT1H
X-Robots-Tag:noindex
X-PUBLISHED-TTL:PT1H
BEGIN:VTIMEZONE
TZID:Europe/Berlin
BEGIN:DAYLIGHT
TZOFFSETFROM:+0100
TZOFFSETTO:+0200
TZNAME:CEST
DTSTART:20250330T010000
END:DAYLIGHT
BEGIN:STANDARD
TZOFFSETFROM:+0200
TZOFFSETTO:+0100
TZNAME:CET
DTSTART:20251026T010000
END:STANDARD
BEGIN:DAYLIGHT
TZOFFSETFROM:+0100
TZOFFSETTO:+0200
TZNAME:CEST
DTSTART:20260329T010000
END:DAYLIGHT
BEGIN:STANDARD
TZOFFSETFROM:+0200
TZOFFSETTO:+0100
TZNAME:CET
DTSTART:20261025T010000
END:STANDARD
BEGIN:DAYLIGHT
TZOFFSETFROM:+0100
TZOFFSETTO:+0200
TZNAME:CEST
DTSTART:20270328T010000
END:DAYLIGHT
BEGIN:STANDARD
TZOFFSETFROM:+0200
TZOFFSETTO:+0100
TZNAME:CET
DTSTART:20271031T010000
END:STANDARD
END:VTIMEZONE
BEGIN:VEVENT
DTSTART;VALUE=DATE:20260826
DTEND;VALUE=DATE:20260831
DTSTAMP:20260422T221044
CREATED:20251210T111713Z
LAST-MODIFIED:20251210T111713Z
UID:9472-1787702400-1788134399@die-servicequelle.de
SUMMARY:gamescom
DESCRIPTION:Unser Messecatering für die gamescom – Qualität\, die begeistert \nBei Die Servicequelle sind Sie genau richtig – wir bieten maßgeschneidertes Messecatering für die gamescom in Köln: vom hochwertigen Fingerfood über Kaffeebar bis hin zu frisch gemixten Cocktails. Perfekt für Ihren Markenauftritt – professionell\, flexibel und aufmerksam betreut. Auf der gamescom betreuen wir Messestände unterschiedlichster Größen und passen unser Catering flexibel an Ihre Anforderungen an. \n\n\nDie Messe gamescom in Köln ist das weltgrößte Event für interaktive Unterhaltung und die internationale Business- und Neuheitenplattform der Computer- und Videospielbranche. Eine Vielzahl an Ausstellern aus über 60 Ländern präsentieren sich auf der gamescom Messe Köln und bieten geballte Spielfreude\, pures Entertainment\, Inspiration und Innovation. Sie zeigen hunderte Premieren und Spieleneuheiten über alle Genres\, von Action\, Adventure und eSports-Präsentationen bis hin zu Family Entertainment. Zahlreiche Computerspiele als Welt- und Europapremieren können direkt vor Ort getestet werden. Besonders für Fachbesucher lohnt sich der Besuch der gamescom Spielemesse in Köln\, denn nirgendwo sonst kommen so viele Insider\, Händler\, Publisher und Entwickler zusammen. Ganz auf die Bedürfnisse von Fachbesuchern abgestimmt\, bietet das entspannte und exklusive Ambiente der business area einen idealen Rahmen für persönliche Gespräche und gezieltes Networking. Ein umfangreiches Konferenz- und Entertainment-Programm wie beispielsweise der gamescom congress\, atemberaubende Indoor- und Outdoor Performances\, sensationelle Live-Acts und die neuesten Highlights aus der Welt der Games\, machen die gamescom in Köln darüber hinaus zur globalen Business- und Kommunikationsplattform für Computer- und Videospiele. \n \nSie suchen einen Partner für Messecatering auf der gamescom? Dann sind Sie bei uns genau richtig. \nNutzen Sie unser Kontaktformular oder rufen Sie uns direkt an – wir freuen uns auf Ihre Anfrage und beraten Sie gerne persönlich! \nMesseprojektleiter für Köln: Herr Ingmar Beermann
URL:https://die-servicequelle.de/messetermin/messecatering-gamescom/
LOCATION:Messe Köln\, Messepl. 1\, Köln\, 50679\, Germany
END:VEVENT
END:VCALENDAR