BEGIN:VCALENDAR
VERSION:2.0
PRODID:-//Die Servicequelle® - Messefullservice Messecatering deutschlandweit - ECPv6.15.20//NONSGML v1.0//EN
CALSCALE:GREGORIAN
METHOD:PUBLISH
X-WR-CALNAME:Die Servicequelle® - Messefullservice Messecatering deutschlandweit
X-ORIGINAL-URL:https://die-servicequelle.de
X-WR-CALDESC:Veranstaltungen für Die Servicequelle® - Messefullservice Messecatering deutschlandweit
REFRESH-INTERVAL;VALUE=DURATION:PT1H
X-Robots-Tag:noindex
X-PUBLISHED-TTL:PT1H
BEGIN:VTIMEZONE
TZID:Europe/Berlin
BEGIN:DAYLIGHT
TZOFFSETFROM:+0100
TZOFFSETTO:+0200
TZNAME:CEST
DTSTART:20250330T010000
END:DAYLIGHT
BEGIN:STANDARD
TZOFFSETFROM:+0200
TZOFFSETTO:+0100
TZNAME:CET
DTSTART:20251026T010000
END:STANDARD
BEGIN:DAYLIGHT
TZOFFSETFROM:+0100
TZOFFSETTO:+0200
TZNAME:CEST
DTSTART:20260329T010000
END:DAYLIGHT
BEGIN:STANDARD
TZOFFSETFROM:+0200
TZOFFSETTO:+0100
TZNAME:CET
DTSTART:20261025T010000
END:STANDARD
BEGIN:DAYLIGHT
TZOFFSETFROM:+0100
TZOFFSETTO:+0200
TZNAME:CEST
DTSTART:20270328T010000
END:DAYLIGHT
BEGIN:STANDARD
TZOFFSETFROM:+0200
TZOFFSETTO:+0100
TZNAME:CET
DTSTART:20271031T010000
END:STANDARD
END:VTIMEZONE
BEGIN:VEVENT
DTSTART;VALUE=DATE:20260623
DTEND;VALUE=DATE:20260626
DTSTAMP:20260420T110327
CREATED:20251210T105410Z
LAST-MODIFIED:20251210T105410Z
UID:9456-1782172800-1782431999@die-servicequelle.de
SUMMARY:automotive testingexpo
DESCRIPTION:Unser Messecatering für die automotive testingexpo – Qualität\, die begeistert \nBei Die Servicequelle sind Sie genau richtig – wir bieten maßgeschneidertes Messecatering für die automotive testingexpo in Stuttgart: vom hochwertigen Fingerfood über Kaffeebar bis hin zu frisch gemixten Cocktails. Perfekt für Ihren Markenauftritt – professionell\, flexibel und aufmerksam betreut. Auf der automotive testingexpo betreuen wir Messestände unterschiedlichster Größen und passen unser Catering flexibel an Ihre Anforderungen an. \n\n\nDie Messe Automotive Testing Expo Europe Stuttgart ist eine internationale Fachmesse für Test-\, Prüf- und Entwicklungsverfahren in der Automobilindustrie. Zahlreiche Aussteller widmen sich auf der Automotive Testing Expo Europe Messe Stuttgart den aktuellsten Technologien und Dienstleistungen zur Verbesserung von Qualität\, Sicherheit\, Zuverlässigkeit und Haltbarkeit von Fahrzeugen. Die Automotive Testing Expo Europe Stuttgart ist die ideale Plattform zur Einführung neuer Technologien im Sektor der Automobiltests\, Auswertung und Qualitätstechnik. \n \nSie suchen einen Partner für Messecatering auf der automotive testingexpo? Dann sind Sie bei uns genau richtig. \nNutzen Sie unser Kontaktformular oder rufen Sie uns direkt an – wir freuen uns auf Ihre Anfrage und beraten Sie gerne persönlich! \nMesseprojektleiter für Stuttgart: Herr Manuel Kempe
URL:https://die-servicequelle.de/messetermin/messecatering-automotive-testingexpo/
LOCATION:Messe Stuttgart\, Messepiazza 1\, Stuttgart\, Baden-Württemberg\, 70629\, Germany
END:VEVENT
BEGIN:VEVENT
DTSTART;VALUE=DATE:20260623
DTEND;VALUE=DATE:20260626
DTSTAMP:20260420T110327
CREATED:20251210T105710Z
LAST-MODIFIED:20251210T105710Z
UID:9458-1782172800-1782431999@die-servicequelle.de
SUMMARY:ees Europe
DESCRIPTION:Unser Messecatering für die ees Europe – Qualität\, die begeistert \nBei Die Servicequelle sind Sie genau richtig – wir bieten maßgeschneidertes Messecatering für die ees Europe in München: vom hochwertigen Fingerfood über Kaffeebar bis hin zu frisch gemixten Cocktails. Perfekt für Ihren Markenauftritt – professionell\, flexibel und aufmerksam betreut. Auf der ees Europe betreuen wir Messestände unterschiedlichster Größen und passen unser Catering flexibel an Ihre Anforderungen an. \n\n\nDie Messe ees Europe in München ist Europas größte internationale Fachmesse für Batterien und Energiespeichersysteme. Zahlreiche nationale und internationale Aussteller präsentieren auf der ees Europe Messe München ihre neuesten Produkte\, Services\, Lösungen und Innovationen aus den Bereichen Energiespeichertechnologien\, Energiespeichersysteme\, Komponenten und Ausrüstung für Energiespeichersysteme\, Netzinfrastruktur und Lösungen für die Integration erneuerbarer Energien\, sowie Produktionstechnik\, Materialien und entsprechendes Zubehör. Ein begleitendes Konferenzprogramm und verschiedene Messeforen sorgen zudem auf der ees Europe in München für Erfahrungsaustausch auf Expertenniveau. Fachleute aus Industrie\, Forschung und Verbänden tauschen sich hier unter anderem über die Entwicklungen der Branche\, sowie Erfahrungen bei Herstellung\, Verkauf\, Installation und Anwendung von Batterien und Energiespeichersystemen aus. \n \nSie suchen einen Partner für Messecatering auf der ees Europe? Dann sind Sie bei uns genau richtig. \n\nNutzen Sie unser Kontaktformular oder rufen Sie uns direkt an – wir freuen uns auf Ihre Anfrage und beraten Sie gerne persönlich! \n\nMesseprojektleiter für München: Herr Manuel Kempe
URL:https://die-servicequelle.de/messetermin/messecatering-ees-europe/
LOCATION:Messe München\, Am Messesee 2\, München\, Bayern\, 81829\, Germany
END:VEVENT
BEGIN:VEVENT
DTSTART;VALUE=DATE:20260623
DTEND;VALUE=DATE:20260626
DTSTAMP:20260420T110327
CREATED:20251210T110005Z
LAST-MODIFIED:20251210T110005Z
UID:9460-1782172800-1782431999@die-servicequelle.de
SUMMARY:EM POWER EUROPE
DESCRIPTION:Unser Messecatering für die EM POWER EUROPE – Qualität\, die begeistert \nBei Die Servicequelle sind Sie genau richtig – wir bieten maßgeschneidertes Messecatering für die EM POWER EUROPE in München: vom hochwertigen Fingerfood über Kaffeebar bis hin zu frisch gemixten Cocktails. Perfekt für Ihren Markenauftritt – professionell\, flexibel und aufmerksam betreut. Auf der EM POWER EUROPE betreuen wir Messestände unterschiedlichster Größen und passen unser Catering flexibel an Ihre Anforderungen an. \n\n\nDie Messe EM-POWER in München ist die Fachmesse für intelligente Energienutzung in Industrie und Gebäuden. Zahlreiche Aussteller präsentieren sich auf der EM-POWER Messe München und zeigen aktuelle Lösungen für die effiziente Erzeugung von Strom\, Wärme und Kälte\, Energiemanagement-Systeme und Gebäudeautomation. Das Angebotsspektrum umfasst dabei die Ausstellungsbereiche dezentrale und erneuerbare Eigenversorgung\, System- und Anlagentechnik\, regelungstechnische Energieverbrauchsoptimierung\, Software für Energiemanagement-Systeme\, sowie Energiedienstleistungen und auch Netzinfrastruktur und Lösungen für die Integration Erneuerbarer Energien. Das hochwertige und zielgruppengerechte Rahmenprogramm der EM-POWER in München\, bei dem auch Verbände und Institutionen aller relevanten Fachbereiche eingebunden sind\, stellt in Fachkonferenzen und Begleitseminaren Best Practice Projekte vor und durchleuchtet Trends beim effizienten Betrieb von gebäudetechnischen Systemen. \n \nSie suchen einen Partner für Messecatering auf der EM POWER EUROPE? Dann sind Sie bei uns genau richtig. \nNutzen Sie unser Kontaktformular oder rufen Sie uns direkt an – wir freuen uns auf Ihre Anfrage und beraten Sie gerne persönlich! \nMesseprojektleiter für München: Herr Manuel Kempe
URL:https://die-servicequelle.de/messetermin/messecatering-em-power-europe/
LOCATION:Messe München\, Am Messesee 2\, München\, Bayern\, 81829\, Germany
END:VEVENT
BEGIN:VEVENT
DTSTART;VALUE=DATE:20260623
DTEND;VALUE=DATE:20260626
DTSTAMP:20260420T110327
CREATED:20251210T110235Z
LAST-MODIFIED:20251210T110235Z
UID:9462-1782172800-1782431999@die-servicequelle.de
SUMMARY:intersolar
DESCRIPTION:Unser Messecatering für die intersolar – Qualität\, die begeistert \nBei Die Servicequelle sind Sie genau richtig – wir bieten maßgeschneidertes Messecatering für die intersolar in München: vom hochwertigen Fingerfood über Kaffeebar bis hin zu frisch gemixten Cocktails. Perfekt für Ihren Markenauftritt – professionell\, flexibel und aufmerksam betreut. Auf der intersolar betreuen wir Messestände unterschiedlichster Größen und passen unser Catering flexibel an Ihre Anforderungen an. \n\n\nDie Messe Intersolar Europe in München ist die weltweit führende Fachmesse für die Solarwirtschaft und ihre Partner. Zahlreiche nationale und internationale Aussteller\, darunter die weltweit wichtigsten Hersteller\, Zulieferer\, Handels- und Dienstleistungsunternehmen präsentieren sich auf der Intersolar Europe Messe München und stellen die neusten Produkte\, Dienstleistungen\, Entwicklungen und technischen Innovationen in den Bereichen Photovoltaik\, Solarthermie\, Solarkraftwerke sowie Netzinfrastruktur und wegweisende Lösungen für die Integration Erneuerbarer Energien vor. Die begleitende Conference\, sowie verschiedene Messeforen und Side-Events vertiefen zusätzlich die einzelnen Themen der Intersolar Europe in München und bieten ausreichend Raum für Wissenstransfer\, Erfahrungsaustausch und Diskussionsrunden über die neuesten Trends und Entwicklungen der internationalen Märkte. \n \nSie suchen einen Partner für Messecatering auf der intersolar? Dann sind Sie bei uns genau richtig. \nNutzen Sie unser Kontaktformular oder rufen Sie uns direkt an – wir freuen uns auf Ihre Anfrage und beraten Sie gerne persönlich! \nMesseprojektleiter für München: Herr Manuel Kempe
URL:https://die-servicequelle.de/messetermin/messecatering-intersolar/
LOCATION:Messe München\, Am Messesee 2\, München\, Bayern\, 81829\, Germany
END:VEVENT
BEGIN:VEVENT
DTSTART;VALUE=DATE:20260623
DTEND;VALUE=DATE:20260626
DTSTAMP:20260420T110327
CREATED:20251210T110558Z
LAST-MODIFIED:20251210T110558Z
UID:9464-1782172800-1782431999@die-servicequelle.de
SUMMARY:POWER2DRIVE EUROPE
DESCRIPTION:Unser Messecatering für die POWER2DRIVE EUROPE – Qualität\, die begeistert \nBei Die Servicequelle sind Sie genau richtig – wir bieten maßgeschneidertes Messecatering für die POWER2DRIVE EUROPE in München: vom hochwertigen Fingerfood über Kaffeebar bis hin zu frisch gemixten Cocktails. Perfekt für Ihren Markenauftritt – professionell\, flexibel und aufmerksam betreut. Auf der POWER2DRIVE EUROPE betreuen wir Messestände unterschiedlichster Größen und passen unser Catering flexibel an Ihre Anforderungen an. \n\n\nDie Messe POWER2DRIVE EUROPE in München ist die internationale Fachmesse für Ladeinfrastruktur und Elektromobilität. ZahlreicheAussteller präsentieren sich auf der POWER2DRIVE EUROPE Messe München und zeigen Produkte\, Dienstleistungen\, neue Entwicklungen und Geschäftsmodelle für saubere und nachhaltige Mobilitätslösungen der Zukunft. Im Fokus stehen Antriebsbatterien für Elektrofahrzeuge sowie Infrastrukturlösungen und -technologien wie Ladeinfrastruktur und Ladestationen\, E-Fahrzeuge\, Materialien\, Antriebe\, Komponenten und Mobilitätsdienstleistungen\, sowie auch Netzinfrastruktur und Lösungen für die Integration Erneuerbarer Energien. Die begleitende Konferenz beleuchtet darüber hinaus auf der POWER 2 DRIVE EUROPE in München alle Aspekte der Elektromobilität sowie der Ladeinfrastruktur und bietet ausreichend Gelegenheit zum Wissentransfer und Erfahrungsaustausch über aktuelle Trends und Entwicklungen. \n \nSie suchen einen Partner für Messecatering auf der POWER2DRIVE EUROPE? Dann sind Sie bei uns genau richtig. \nNutzen Sie unser Kontaktformular oder rufen Sie uns direkt an – wir freuen uns auf Ihre Anfrage und beraten Sie gerne persönlich! \nMesseprojektleiter für München: Herr Manuel Kempe
URL:https://die-servicequelle.de/messetermin/messecatering-power2drive-europe/
LOCATION:Messe München\, Am Messesee 2\, München\, Bayern\, 81829\, Germany
END:VEVENT
BEGIN:VEVENT
DTSTART;VALUE=DATE:20260624
DTEND;VALUE=DATE:20260626
DTSTAMP:20260420T110327
CREATED:20251210T111155Z
LAST-MODIFIED:20251210T111155Z
UID:9468-1782259200-1782431999@die-servicequelle.de
SUMMARY:FeuerTrutz
DESCRIPTION:Unser Messecatering für die FeuerTrutz – Qualität\, die begeistert \nBei Die Servicequelle sind Sie genau richtig – wir bieten maßgeschneidertes Messecatering für die FeuerTrutz in Nürnberg: vom hochwertigen Fingerfood über Kaffeebar bis hin zu frisch gemixten Cocktails. Perfekt für Ihren Markenauftritt – professionell\, flexibel und aufmerksam betreut. Auf der FeuerTrutz betreuen wir Messestände unterschiedlichster Größen und passen unser Catering flexibel an Ihre Anforderungen an. \n\n\nDie Messe FeuerTrutz in Nürnberg ist eine Fachmesse mit Kongress für vorbeugenden Brandschutz. Zahlreiche nationale und internationale Aussteller präsentieren auf der FeuerTrutz Messe Nürnberg ihre Produkte wie spezielle Baustoffe\, Bauelemente und Erzeugnisse der technischen Gebäudeausrüstung sowie Flucht- und Rettungssysteme. Darüber hinaus stellen im vorbeugenden Brandschutz agierende Dienstleister sowie Aus- und Fortbildungseinrichtungen ihre Angebote vor. Brandschützer\, die sich beruflich weiterentwickeln oder schulen lassen wollen\, finden auf der Gemeinschaftsfläche Treffpunkt Bildung & Karriere die passenden Angebote und Kontakte. Das Rahmenprogramm mit Aussteller-Fachforen\, Kompakt-Seminaren und Live-Demonstrationen bietet einen Überblick aktueller Entwicklungen und Trends\, sowie praxisorientiertes Fachwissen zu aktuellen Brandschutzfragen. Im begleitenden Kongress der FeuerTrutz Nürnberg Messe erläutern darüber hinaus anerkannte Brandschutzexperten aktuelle Themen. \n \nSie suchen einen Partner für Messecatering auf der FeuerTrutz? Dann sind Sie bei uns genau richtig. \nNutzen Sie unser Kontaktformular oder rufen Sie uns direkt an – wir freuen uns auf Ihre Anfrage und beraten Sie gerne persönlich! \nMesseprojektleiter für Nürnberg: Herr Manuel Kempe
URL:https://die-servicequelle.de/messetermin/messecatering-feuertrutz/
LOCATION:Messe Nürnberg\, Messezentrum 1\, Nürnberg\, Bayern\, 90471\, Germany
END:VEVENT
BEGIN:VEVENT
DTSTART;VALUE=DATE:20260624
DTEND;VALUE=DATE:20260629
DTSTAMP:20260420T110327
CREATED:20251210T110849Z
LAST-MODIFIED:20251210T110849Z
UID:9466-1782259200-1782691199@die-servicequelle.de
SUMMARY:Eurobike
DESCRIPTION:Unser Messecatering für die Eurobike – Qualität\, die begeistert \nBei Die Servicequelle sind Sie genau richtig – wir bieten maßgeschneidertes Messecatering für die Eurobike in Frankfurt: vom hochwertigen Fingerfood über Kaffeebar bis hin zu frisch gemixten Cocktails. Perfekt für Ihren Markenauftritt – professionell\, flexibel und aufmerksam betreut. Auf der Eurobike betreuen wir Messestände unterschiedlichster Größen und passen unser Catering flexibel an Ihre Anforderungen an. \n\n\nDie Messe EUROBIKE Frankfurt am Main ist die internationale Fahrradmesse und globalen Bike- und Ecomobility Plattform. Eine Vielzahl an nationalen und internationalen Ausstellern präsentieren sich auf der EUROBIKE Messe Frankfurt am Main in den Hallen und auf dem Freigelände und bilden das weltweite Spektrum der Fahrrad-Branche ab. Neben dem Boom-Faktor E-Bike\, dem sportlichen Erfolgsgarant Gravelbike und entsprechender Teile\, Komponenten\, Zubehör\, Bekleidung\, Accessoires\, Dienstleistungen und Services spricht die Ecomobility Experience Gallery der EUROBIKE Fahrradfachmesse in Frankfurt am Main viele Interessierte aus Unternehmen und Kommunen an\, die mit neuen Elektrofahrzeugen ihren Fuhrpark modernisieren möchten. Für die verbesserte Ansprache spezifischer Zielgruppen werden Aussteller außerdem in den Ausstellungsbereichen Cargobike\, Start-up und Sports & Performance gebündelt auf der Bike-Expo in Frankfurt präsentiert\, ergänzt durch ein eigens für die Fokusthemen gestaltetes Bühnenprogramm und Messeführungen zu ausgewiesenen Produkthighlights. Zudem präsentieren sich auf der EUROBIKE Ecomobility-Messe in Frankfurt Aussteller zum Themenbereich Handmade mit individuellen Rahmenanfertigungen und besonders kunstvollen Accessoires. Das umfassende Konferenz- und Netzwerkprogramm während der Fachbesuchertage informiert darüber hinaus zu verschiedenen Fokusthemen der Fahrradbranche und bietet Gelegenheit zu Inspiration und Austausch ein. Fahrrad- und Mobilitätsfans können sich an der Publikumstagen der EUROBIKE zu Themen und Trends der Fahrradwelt informieren\, bei einer Probefahrt die neuesten Fahrzeuge testen oder sich von Reisevorträgen inspirieren lassen. Als globale Bike- und Ecomobility-Plattform setzt die EUROBIKE in Frankfurt am Main Maßstäbe als Trend-\, Innovations- und Neuheitenschau in den Themenbereichen Sport\, Lifestyle\, Mobilität und Nachhaltigkeit. \n \nSie suchen einen Partner für Messecatering auf der Eurobike? Dann sind Sie bei uns genau richtig. \nNutzen Sie unser Kontaktformular oder rufen Sie uns direkt an – wir freuen uns auf Ihre Anfrage und beraten Sie gerne persönlich! \nMesseprojektleiter für Frankfurt: Herr Ingmar Beermann
URL:https://die-servicequelle.de/messetermin/messecatering-eurobike/
LOCATION:Messe Frankfurt\, Ludwig-Erhard-Anlage 1\, Frankfurt am Main\, Hessen\, 60327\, Germany
END:VEVENT
END:VCALENDAR