BEGIN:VCALENDAR
VERSION:2.0
PRODID:-//Die Servicequelle® - Messefullservice Messecatering deutschlandweit - ECPv6.15.20//NONSGML v1.0//EN
CALSCALE:GREGORIAN
METHOD:PUBLISH
X-ORIGINAL-URL:https://die-servicequelle.de
X-WR-CALDESC:Veranstaltungen für Die Servicequelle® - Messefullservice Messecatering deutschlandweit
REFRESH-INTERVAL;VALUE=DURATION:PT1H
X-Robots-Tag:noindex
X-PUBLISHED-TTL:PT1H
BEGIN:VTIMEZONE
TZID:Europe/Berlin
BEGIN:DAYLIGHT
TZOFFSETFROM:+0100
TZOFFSETTO:+0200
TZNAME:CEST
DTSTART:20250330T010000
END:DAYLIGHT
BEGIN:STANDARD
TZOFFSETFROM:+0200
TZOFFSETTO:+0100
TZNAME:CET
DTSTART:20251026T010000
END:STANDARD
BEGIN:DAYLIGHT
TZOFFSETFROM:+0100
TZOFFSETTO:+0200
TZNAME:CEST
DTSTART:20260329T010000
END:DAYLIGHT
BEGIN:STANDARD
TZOFFSETFROM:+0200
TZOFFSETTO:+0100
TZNAME:CET
DTSTART:20261025T010000
END:STANDARD
BEGIN:DAYLIGHT
TZOFFSETFROM:+0100
TZOFFSETTO:+0200
TZNAME:CEST
DTSTART:20270328T010000
END:DAYLIGHT
BEGIN:STANDARD
TZOFFSETFROM:+0200
TZOFFSETTO:+0100
TZNAME:CET
DTSTART:20271031T010000
END:STANDARD
END:VTIMEZONE
BEGIN:VEVENT
DTSTART;VALUE=DATE:20260310
DTEND;VALUE=DATE:20260315
DTSTAMP:20260422T163449
CREATED:20250725T114327Z
LAST-MODIFIED:20250725T114327Z
UID:9219-1773100800-1773532799@die-servicequelle.de
SUMMARY:didacta
DESCRIPTION:Unser Messecatering für die didacta – Qualität\, die begeistert \nBei Die Servicequelle sind Sie genau richtig – wir bieten maßgeschneidertes Messecatering für die didacta in Köln: vom hochwertigen Fingerfood über Kaffeebar bis hin zu frisch gemixten Cocktails. Perfekt für Ihren Markenauftritt – professionell\, flexibel und aufmerksam betreut. Auf der didacta betreuen wir Messestände unterschiedlichster Größen und passen unser Catering flexibel an Ihre Anforderungen an. \n\n\nDie Messe didacta Köln ist eine Bildungsmesse und die größte Fachmesse für die Bildungswirtschaft in Europa und nationale wie internationale Kontaktbörse für Unternehmen. Die didacta Messe Köln gibt allen\, die am Bildungsprozess beteiligt sind\, ein Update über die aktuellen Themen und Herausforderungen der Bildungsbranche. Auf der weltweit größten Messe für den gesamten Bildungsbereich zeigen zahlreiche Unternehmen aus rund 55 Ländern ein umfassendes Leistungsspektrum von Ausstattungen und Einrichtungen\, Bildungsmedien und didaktischen Materialien für alle Bildungs- und Erziehungsbereiche. In den Hallen präsentieren die Aussteller aus ganz Europa die aktuellen Angebote und Trends aus allen Bereichen der Bildung\, von der frühen Bildung bis hin zur Erwachsenenqualifizierung. Strukturiert ist die Fachmesse dabei in die vier Bereiche Frühe Bildung\, Schule/Hochschule\, Berufliche Bildung/Qualifikation und Digital. Mit ihrem breit gefächerten Rahmen- und Kongressprogramm unterstreicht die Bildungsmesse ihre Leitfunktion als “Bildungsgipfel” für Fachwelt und Öffentlichkeit. So zeichnet sie sich durch ein einzigartiges\, hoch informatives und viele Besucher anziehendes Vortrags- und Rahmenprogramm aus\, an dem sich auch die Aussteller intensiv beteiligen. Das umfangreiche Fortbildungsprogramm der Bildungsmesse didacta in Köln ist dabei für die Fachkräfte aller Bildungsbereiche ausgerichtet. In zahlreichen Vorträgen\, Podiumsveranstaltungen\, Workshops und Seminaren sprechen Vertreter aus Wirtschaft\, Wissenschaft\, Politik und Gesellschaft sowie viele Prominente über aktuelle Fragen der Bildungspolitik. \nSie suchen einen Partner für Messecatering auf der didacta? Dann sind Sie bei uns genau richtig. \nNutzen Sie unser Kontaktformular oder rufen Sie uns direkt an – wir freuen uns auf Ihre Anfrage und beraten Sie gerne persönlich! \nMesseprojektleiter für Köln: Herr Ingmar Beermann \nKontaktdaten: Unser Team
URL:https://die-servicequelle.de/messetermin/messecatering-didacta/
LOCATION:Messe Köln\, Messepl. 1\, Köln\, 50679\, Germany
END:VEVENT
BEGIN:VEVENT
DTSTART;VALUE=DATE:20260313
DTEND;VALUE=DATE:20260318
DTSTAMP:20260422T163449
CREATED:20251209T141044Z
LAST-MODIFIED:20251209T141133Z
UID:9420-1773360000-1773791999@die-servicequelle.de
SUMMARY:Internorga
DESCRIPTION:Unser Messecatering für die Internorga – Qualität\, die begeistert \nBei Die Servicequelle sind Sie genau richtig – wir bieten maßgeschneidertes Messecatering für die Internorga in Hamburg: vom hochwertigen Fingerfood über Kaffeebar bis hin zu frisch gemixten Cocktails. Perfekt für Ihren Markenauftritt – professionell\, flexibel und aufmerksam betreut. Auf der Internorga betreuen wir Messestände unterschiedlichster Größen und passen unser Catering flexibel an Ihre Anforderungen an. \n \n\n\nDie Messe INTERNORGA in Hamburg ist die internationale Fachmesse für Hotellerie\, Gastronomie\, Gemeinschaftsverpflegung\, Bäckereien und Konditoreien. Eine Vielzahl an nationalen und internationalen Ausstellern präsentieren sich auf der INTERNORGA Messe Hamburg und bieten einen lückenlosen Überblick über die gesamte Angebotspalette aller Marktsegmente des Außer-Haus-Markt und zeigen Neuheiten\, Trends und Komplettlösungen. Als Talent- und Trendschmiede präsentiert die Gastronomiemesse als erste Innovationen\, Produktpremieren und Macher\, die die Gastro-Welt von morgen auf den Kopf stellen. Die begleitenden Kongresse der INTERNORGA in Hamburg sorgen zudem in jedem Jahr für die fachlichen Höhepunkte. Hochkarätige Referenten der verschiedensten Gastronomie-Disziplinen aus dem In- und Ausland sowie Business-Profis liefern während des Internationalen Foodservice-Forums\, dem deutschen Kongress für Gemeinschaftsgastronomie und dem Forum Schulcatering neben konzeptionellen Erfolgsrezepten und strategischen Entscheidungshilfen auch viele exklusive Brancheninsights. \n \nSie suchen einen Partner für Messecatering auf der Internorga? Dann sind Sie bei uns genau richtig. \nNutzen Sie unser Kontaktformular oder rufen Sie uns direkt an – wir freuen uns auf Ihre Anfrage und beraten Sie gerne persönlich! \nMesseprojektleiter für Hamburg: Herr Ralf Tempelmann
URL:https://die-servicequelle.de/messetermin/messecatering-internorga/
LOCATION:Messe Hamburg\, Messeplatz 1\, Hamburg\, Hamburg\, 20357\, Germany
END:VEVENT
END:VCALENDAR