BEGIN:VCALENDAR
VERSION:2.0
PRODID:-//Die Servicequelle® - Messefullservice Messecatering deutschlandweit - ECPv6.15.20//NONSGML v1.0//EN
CALSCALE:GREGORIAN
METHOD:PUBLISH
X-ORIGINAL-URL:https://die-servicequelle.de
X-WR-CALDESC:Veranstaltungen für Die Servicequelle® - Messefullservice Messecatering deutschlandweit
REFRESH-INTERVAL;VALUE=DURATION:PT1H
X-Robots-Tag:noindex
X-PUBLISHED-TTL:PT1H
BEGIN:VTIMEZONE
TZID:Europe/Berlin
BEGIN:DAYLIGHT
TZOFFSETFROM:+0100
TZOFFSETTO:+0200
TZNAME:CEST
DTSTART:20250330T010000
END:DAYLIGHT
BEGIN:STANDARD
TZOFFSETFROM:+0200
TZOFFSETTO:+0100
TZNAME:CET
DTSTART:20251026T010000
END:STANDARD
BEGIN:DAYLIGHT
TZOFFSETFROM:+0100
TZOFFSETTO:+0200
TZNAME:CEST
DTSTART:20260329T010000
END:DAYLIGHT
BEGIN:STANDARD
TZOFFSETFROM:+0200
TZOFFSETTO:+0100
TZNAME:CET
DTSTART:20261025T010000
END:STANDARD
BEGIN:DAYLIGHT
TZOFFSETFROM:+0100
TZOFFSETTO:+0200
TZNAME:CEST
DTSTART:20270328T010000
END:DAYLIGHT
BEGIN:STANDARD
TZOFFSETFROM:+0200
TZOFFSETTO:+0100
TZNAME:CET
DTSTART:20271031T010000
END:STANDARD
END:VTIMEZONE
BEGIN:VEVENT
DTSTART;VALUE=DATE:20260201
DTEND;VALUE=DATE:20260205
DTSTAMP:20260422T163312
CREATED:20251209T130605Z
LAST-MODIFIED:20251209T130605Z
UID:9393-1769904000-1770249599@die-servicequelle.de
SUMMARY:ISM
DESCRIPTION:Unser Messecatering für die ISM – Qualität\, die begeistert \nBei Die Servicequelle sind Sie genau richtig – wir bieten maßgeschneidertes Messecatering für die ISM in Köln: vom hochwertigen Fingerfood über Kaffeebar bis hin zu frisch gemixten Cocktails. Perfekt für Ihren Markenauftritt – professionell\, flexibel und aufmerksam betreut. Auf der CMS betreuen wir Messestände unterschiedlichster Größen und passen unser Catering flexibel an Ihre Anforderungen an. \n\n\nDie Messe ISM Köln ist die weltweit größte Messe für Süßwaren und Snacks. Eine Vielzahl an nationalen und internationalen Ausstellern stellen auf der ISM Messe Köln das gesamte weltweit verfügbare Süßwarensortiment in allen Bereichen\, von Schokolade und Zuckerwaren über feine Backwaren und Knabberartikel bis hin zu Eiskrem und Rohmassen vor. Präsentiert werden auf der Süßwarenmesse Köln ausschließlich für den Ladenverkauf bestimmte Endprodukte. Saisonartikel bilden einen besonderen Angebotsschwerpunkt und machen die ISM Süßwaren-Messe Köln deshalb zum unverzichtbaren Trendbarometer. Auch das begleitende Rahmenprogramm ist mit interessanten Schwerpunktthemen auf die Informationsbedürfnisse von Industrie und Handel ausgerichtet. Die ISM in Köln verzahnt in Kombination mit der ISM Ingredients und der ProSweets Cologne die gesamte Wertschöpfungskette der Süßwaren- und Snackindustrie vollständig und intelligent – von der Rezepturentwicklung über Produktion und Verpackung bis zur Positionierung am Point of Sale. Diese enge inhaltliche und räumliche Verknüpfung schafft Synergien\, fördert Innovation und ermöglicht branchenübergreifende Impulse entlang der gesamten Produktentwicklung. \n \nSie suchen einen Partner für Messecatering auf der ISM? Dann sind Sie bei uns genau richtig. \nNutzen Sie unser Kontaktformular oder rufen Sie uns direkt an – wir freuen uns auf Ihre Anfrage und beraten Sie gerne persönlich! \nMesseprojektleiter für Köln: Herr Ingmar Beermann
URL:https://die-servicequelle.de/messetermin/messecatering-ism/
LOCATION:Messe Köln\, Messepl. 1\, Köln\, 50679\, Germany
END:VEVENT
BEGIN:VEVENT
DTSTART;VALUE=DATE:20260201
DTEND;VALUE=DATE:20260205
DTSTAMP:20260422T163312
CREATED:20251209T130851Z
LAST-MODIFIED:20251209T131115Z
UID:9395-1769904000-1770249599@die-servicequelle.de
SUMMARY:pro sweets
DESCRIPTION:Unser Messecatering für die pro sweets – Qualität\, die begeistert \nBei Die Servicequelle sind Sie genau richtig – wir bieten maßgeschneidertes Messecatering für die pro sweets in Köln: vom hochwertigen Fingerfood über Kaffeebar bis hin zu frisch gemixten Cocktails. Perfekt für Ihren Markenauftritt – professionell\, flexibel und aufmerksam betreut. Auf der pro sweets betreuen wir Messestände unterschiedlichster Größen und passen unser Catering flexibel an Ihre Anforderungen an. \n \n\n\nDie Messe ProSweets Cologne in Köln ist die internationale Zuliefermesse für die Süßwaren- und Snackindustrie. Zahlreiche nationale und internationale Aussteller\, darunter die führenden Anbietern der Zulieferbranche\, sowie auch zahlreiche kleinere und mittelständische Unternehmen\, präsentieren sich auf der ProSweets Messe Köln und zeigen die große Bandbreite der Themen\, die in den Vorstufen\, in der Produktion und in der Verpackung von Bedeutung sind. Neben Anbietern von Verpackungen\, Maschinen und Anlagen für Snacks und Süßwaren präsentieren sich auf der ProSweets auch Cologne Dienstleister aus Sekundärbereichen. Ob ressourcenschonende Chips-Verpackungen oder intelligente Kälte- und Klimatechnik für Speiseeis – auf der Süßwaren-Zuliefermesse in Köln offenbart sich das gesamte Spektrum der Branche. Im Rahmenprogramm der ProSweets Cologne werden darüber hinaus in der Speakers Corner interessante Themen der aktuellen Markt- und Produktentwicklungen sowie die Trends lebendig und dialogorientiert dargestellt. Zudem machen die Newcomer Area und eine interessante Sonderschau die Snack-Zuliefermesse zur zentralen Order- und Informationsplattform für die innovationsfreudige Süßwaren- und Snackindustrie. Die ProSweets Cologne in Köln verzahnt in Kombination mit der ISM und der ISM Ingredients die gesamte Wertschöpfungskette der Süßwaren- und Snackindustrie vollständig und intelligent – von der Rezepturentwicklung über Produktion und Verpackung bis zur Positionierung am Point of Sale. Diese enge inhaltliche und räumliche Verknüpfung schafft Synergien\, fördert Innovation und ermöglicht branchenübergreifende Impulse entlang der gesamten Produktentwicklung. \n \nSie suchen einen Partner für Messecatering auf der pro sweets? Dann sind Sie bei uns genau richtig. \nNutzen Sie unser Kontaktformular oder rufen Sie uns direkt an – wir freuen uns auf Ihre Anfrage und beraten Sie gerne persönlich! \nMesseprojektleiter für Köln: Herr Ingmar Beermann
URL:https://die-servicequelle.de/messetermin/messecatering-pro-sweets/
LOCATION:Messe Köln\, Messepl. 1\, Köln\, 50679\, Germany
END:VEVENT
BEGIN:VEVENT
DTSTART;VALUE=DATE:20260203
DTEND;VALUE=DATE:20260206
DTSTAMP:20260422T163312
CREATED:20250725T112642Z
LAST-MODIFIED:20250725T112642Z
UID:9207-1770076800-1770335999@die-servicequelle.de
SUMMARY:NORTEC
DESCRIPTION:Unser Messecatering für die NORTEC – Qualität\, die begeistert \nBei Die Servicequelle sind Sie genau richtig – wir bieten maßgeschneidertes Messecatering für die NORTEC in Hamburg: vom hochwertigen Fingerfood über Kaffeebar bis hin zu frisch gemixten Cocktails. Perfekt für Ihren Markenauftritt – professionell\, flexibel und aufmerksam betreut. Auf der NORTEC betreuen wir Messestände unterschiedlichster Größen und passen unser Catering flexibel an Ihre Anforderungen an. \n\n\nProduktion. Innovation. Zukunft. Als erste Fachmesse für Produktion im Jahr bietet die Messe NORTEC in Hamburg alle zwei Jahre eine Plattform für die Industrie. Angebotsschwerpunkte sind Werkzeugmaschinen und Fertigungssysteme\, Präzisionswerkzeuge\, Mess- und Prüftechnik\, Robotik und Automation\, Software- und IT-Lösungen\, Bauteile\, Baugruppen\, Zubehör\, Betriebsmittel und Verbrauchsmaterialien\, Logistik und Betriebsausrüstung sowie Dienstleistungen. Die NORTEC Messe Hamburg deckt mit zahlreichen nationalen und internationalen ausstellenden Unternehmen sämtliche Stationen der Wertschöpfungskette der Metallbearbeitung ab. Für die ansässigen Produktionsunternehmen\, aber auch für Gäste aus ganz Deutschland und den angrenzenden europäischen Ländern gilt sie seit mittlerweile über 30 Jahren als Pflichttermin. Für Ausstellerinnen und Aussteller ist die NORTEC Hamburg eine unverzichtbare Gelegenheit\, diesen Teil der deutschen Industrielandschaft kompakt zu erreichen. \nSie suchen einen Partner für Messecatering auf der NORTEC? Dann sind Sie bei uns genau richtig. \nNutzen Sie unser Kontaktformular oder rufen Sie uns direkt an – wir freuen uns auf Ihre Anfrage und beraten Sie gerne persönlich! \nMesseprojektleiter für Hamburg: Herr Ralf Tempelmann \nKontaktdaten: Unser Team
URL:https://die-servicequelle.de/messetermin/messecatering-nortec/
LOCATION:Messe Hamburg\, Messeplatz 1\, Hamburg\, Hamburg\, 20357\, Germany
END:VEVENT
BEGIN:VEVENT
DTSTART;VALUE=DATE:20260203
DTEND;VALUE=DATE:20260206
DTSTAMP:20260422T163312
CREATED:20251209T131538Z
LAST-MODIFIED:20251209T131538Z
UID:9398-1770076800-1770335999@die-servicequelle.de
SUMMARY:metav
DESCRIPTION:Unser Messecatering für die Metav – Qualität\, die begeistert \nBei Die Servicequelle sind Sie genau richtig – wir bieten maßgeschneidertes Messecatering für die Metav in Düsseldorf: vom hochwertigen Fingerfood über Kaffeebar bis hin zu frisch gemixten Cocktails. Perfekt für Ihren Markenauftritt – professionell\, flexibel und aufmerksam betreut. Auf der Metav betreuen wir Messestände unterschiedlichster Größen und passen unser Catering flexibel an Ihre Anforderungen an. \nDie METAV Düsseldorf ist eine der wichtigsten Fachmessen für die Metallbe- und -verarbeitung in Deutschland. Sie findet alle zwei Jahre statt und bietet Ausstellern die Möglichkeit\, ihre Produkte und Dienstleistungen in diesem Bereich zu präsentieren. Zu den Ausstellern gehören Hersteller von Maschinen und Werkzeugen\, Anbieter von Automatisierungslösungen und Dienstleister im Werkzeug- und Formenbau. Die METAV Düsseldorf ist auch eine Plattform für die Weiterbildung von Fachkräften. In zahlreichen Vorträgen und Workshops informieren Experten aus der Branche über aktuelle Entwicklungen und Trends. Darüber hinaus bietet die Messe die Möglichkeit\, neue Geschäftskontakte zu knüpfen und sich mit anderen Fachleuten auszutauschen. Die nächste METAV Düsseldorf findet vom 15. bis 18. März 2022 statt. Wir laden Sie herzlich ein\, an dieser wichtigen Fachmesse teilzunehmen und sich über die neuesten Entwicklungen in der Metallbe- und -verarbeitung zu informieren. Wir würden uns freuen\, Sie dort begrüßen zu dürfen. \n \nSie suchen einen Partner für Messecatering auf der Metav? Dann sind Sie bei uns genau richtig. \nNutzen Sie unser Kontaktformular oder rufen Sie uns direkt an – wir freuen uns auf Ihre Anfrage und beraten Sie gerne persönlich! \nMesseprojektleiter für Düsseldorf: Herr Ingmar Beermann
URL:https://die-servicequelle.de/messetermin/messecatering-metav/
LOCATION:Messe Düsseldorf\, Stockumer Kirchstraße 61\, Düsseldorf\, Nordrheinwestfalen\, 40474\, Germany
END:VEVENT
END:VCALENDAR