BEGIN:VCALENDAR
VERSION:2.0
PRODID:-//Die Servicequelle® - Messefullservice Messecatering deutschlandweit - ECPv6.15.20//NONSGML v1.0//EN
CALSCALE:GREGORIAN
METHOD:PUBLISH
X-ORIGINAL-URL:https://die-servicequelle.de
X-WR-CALDESC:Veranstaltungen für Die Servicequelle® - Messefullservice Messecatering deutschlandweit
REFRESH-INTERVAL;VALUE=DURATION:PT1H
X-Robots-Tag:noindex
X-PUBLISHED-TTL:PT1H
BEGIN:VTIMEZONE
TZID:Europe/Berlin
BEGIN:DAYLIGHT
TZOFFSETFROM:+0100
TZOFFSETTO:+0200
TZNAME:CEST
DTSTART:20250330T010000
END:DAYLIGHT
BEGIN:STANDARD
TZOFFSETFROM:+0200
TZOFFSETTO:+0100
TZNAME:CET
DTSTART:20251026T010000
END:STANDARD
BEGIN:DAYLIGHT
TZOFFSETFROM:+0100
TZOFFSETTO:+0200
TZNAME:CEST
DTSTART:20260329T010000
END:DAYLIGHT
BEGIN:STANDARD
TZOFFSETFROM:+0200
TZOFFSETTO:+0100
TZNAME:CET
DTSTART:20261025T010000
END:STANDARD
BEGIN:DAYLIGHT
TZOFFSETFROM:+0100
TZOFFSETTO:+0200
TZNAME:CEST
DTSTART:20270328T010000
END:DAYLIGHT
BEGIN:STANDARD
TZOFFSETFROM:+0200
TZOFFSETTO:+0100
TZNAME:CET
DTSTART:20271031T010000
END:STANDARD
END:VTIMEZONE
BEGIN:VEVENT
DTSTART;VALUE=DATE:20260116
DTEND;VALUE=DATE:20260119
DTSTAMP:20260422T162946
CREATED:20251209T122850Z
LAST-MODIFIED:20251209T124355Z
UID:9373-1768521600-1768780799@die-servicequelle.de
SUMMARY:opti München
DESCRIPTION:Unser Messecatering für die opti München – Qualität\, die begeistert \nBei Die Servicequelle sind Sie genau richtig – wir bieten maßgeschneidertes Messecatering für die opti in München: vom hochwertigen Fingerfood über Kaffeebar bis hin zu frisch gemixten Cocktails. Perfekt für Ihren Markenauftritt – professionell\, flexibel und aufmerksam betreut. Auf der opti betreuen wir Messestände unterschiedlichster Größen und passen unser Catering flexibel an Ihre Anforderungen an. \n\n\nDie Messe opti München ist die internationale Messe für Optik & Design. Zahlreiche nationale und internationale Aussteller präsentieren auf der opti Messe München die gesamte Bandbreite der Augenoptik konzentriert und in höchster Qualität. Zum Angebotsspektrum der Optikermesse München gehört dabei das komplette augenoptische Spektrum wie Ausrüstung und Werkzeuge für Optiker\, Brillenbänder und -ketten\, Brillendisplays\, Brillenfassungen und Brillengläser\, sowie Kontaktlinsen\, Instrumente für Optometrie und Ophthalmologie oder Pflege- und Reinigungsmittel für Brillen. Die Optikmesse bietet Produktpremieren von internationalen Marktführern und Start-ups gleichermaßen und zeigt mit ihren Fokusthemen\, was die Branche heute und morgen bewegt. Die Fachmesse für Augenoptik bietet nicht nur Einblicke in aktuelle Entwicklungen und Neuheiten\, sondern sie bereitet Branchenprofis umfassend auf kommende Veränderungen in der Augenoptik vor. Ein spannendes Rahmenprogramm mit verschiedenen Foren\, Impulsvorträgen mit anschließenden Diskussionen sowie weiteren spannenden und innovativen Programmpunkten stellt darüber hinaus auf der opti München die neuesten Trends und Innovationen der Augenoptik vor. \n \nSie suchen einen Partner für Messecatering auf der opti? Dann sind Sie bei uns genau richtig. \nNutzen Sie unser Kontaktformular oder rufen Sie uns direkt an – wir freuen uns auf Ihre Anfrage und beraten Sie gerne persönlich! \nMesseprojektleiter für München: Herr Manuel Kempe
URL:https://die-servicequelle.de/messetermin/messecatering-opti-muenchen/
LOCATION:Messe München\, Am Messesee 2\, München\, Bayern\, 81829\, Germany
END:VEVENT
BEGIN:VEVENT
DTSTART;VALUE=DATE:20260117
DTEND;VALUE=DATE:20260126
DTSTAMP:20260422T162946
CREATED:20251209T123552Z
LAST-MODIFIED:20251209T124414Z
UID:9376-1768608000-1769385599@die-servicequelle.de
SUMMARY:boot Düsseldorf
DESCRIPTION:Unser Messecatering für die boot – Qualität\, die begeistert \nBei Die Servicequelle sind Sie genau richtig – wir bieten maßgeschneidertes Messecatering für die boot in Düsseldorf: vom hochwertigen Fingerfood über Kaffeebar bis hin zu frisch gemixten Cocktails. Perfekt für Ihren Markenauftritt – professionell\, flexibel und aufmerksam betreut. Auf der boot betreuen wir Messestände unterschiedlichster Größen und passen unser Catering flexibel an Ihre Anforderungen an. \n \n\n\nDie Messe boot in Düsseldorf ist die internationale Bootsausstellung. Eine Vielzahl an Ausstellern aus 68 Ländern präsentieren auf der boot Messe Düsseldorf ihre Premieren\, maritimen Produkte und Dienstleistungen und geben mit ihrer Angebotstiefe und -breite einen Überblick über den kompletten Weltmarkt des Yacht- und Wassersports. Tauchreviere und Tauchbasen rund um den Erdball\, von Asien bis in die Südsee\, Tauchsportbekleidung\, Ausbildung\, Neuheiten aus Unterwasserfotografie und –film zeigen insgesamt 350 Aussteller. Die Bootsmesse in Düsseldorf bietet allen Bootsinteressierten und Wassersportlern individuelle Beratung und Informationen. Darüber hinaus können Boote\, Yachten und Zubehör in Augenschein genommen und direkt auf Urlaubstauglichkeit geprüft werden. \n \nSie suchen einen Partner für Messecatering auf der boot? Dann sind Sie bei uns genau richtig. \nNutzen Sie unser Kontaktformular oder rufen Sie uns direkt an – wir freuen uns auf Ihre Anfrage und beraten Sie gerne persönlich! \nMesseprojektleiter für Düsseldorf: Herr Ingmar Beermann
URL:https://die-servicequelle.de/messetermin/messecatering-boot-duesseldorf/
LOCATION:Messe Düsseldorf\, Stockumer Kirchstraße 61\, Düsseldorf\, Nordrheinwestfalen\, 40474\, Germany
END:VEVENT
BEGIN:VEVENT
DTSTART;VALUE=DATE:20260117
DTEND;VALUE=DATE:20260126
DTSTAMP:20260422T162946
CREATED:20251209T124020Z
LAST-MODIFIED:20251209T124429Z
UID:9379-1768608000-1769385599@die-servicequelle.de
SUMMARY:CMT
DESCRIPTION:Unser Messecatering für die CMT – Qualität\, die begeistert \nBei Die Servicequelle sind Sie genau richtig – wir bieten maßgeschneidertes Messecatering für die CMT in Stuttgart: vom hochwertigen Fingerfood über Kaffeebar bis hin zu frisch gemixten Cocktails. Perfekt für Ihren Markenauftritt – professionell\, flexibel und aufmerksam betreut. Auf der CMT betreuen wir Messestände unterschiedlichster Größen und passen unser Catering flexibel an Ihre Anforderungen an. \n \n\n\nDie Messe CMT Stuttgart ist die weltweit größte Publikumsmesse für Tourismus und Freizeit. Eine Vielzahl an Ausstellern aus fast 100 Ländern präsentieren auf der CMT Messe Stuttgart die schönsten Plätze der Welt\, geben Informationen\, Tipps und Adressen zur perfekten Urlaubs-Vorbereitung und lassen Sie pure Urlaubsstimmung genießen. Rund 850 Caravans\, Reisemobile und Freizeitfahrzeuge\, zahlreiches Caravaning-Zubehör sowie das jährliche Caravaning-Partnerland erwarten Sie zum Probecampen. Ein attraktives Rahmenprogramm mit Infos\, Vorführungen\, Multimediashows\, Urlaubskino und einem internationalen Unterhaltungsprogramm Auf der CMT Messe Stuttgart wartet Europas größtes Reiseangebot mit exotischer Folklore\, kulinarischen Spezialitäten und atemberaubenden Landschaften auf Sie. \n \nSie suchen einen Partner für Messecatering auf der CMT? Dann sind Sie bei uns genau richtig. \nNutzen Sie unser Kontaktformular oder rufen Sie uns direkt an – wir freuen uns auf Ihre Anfrage und beraten Sie gerne persönlich! \nMesseprojektleiter für Stuttgart: Herr Manuel Kempe
URL:https://die-servicequelle.de/messetermin/messecatering-cmt/
LOCATION:Messe Stuttgart\, Messepiazza 1\, Stuttgart\, Baden-Württemberg\, 70629\, Germany
END:VEVENT
END:VCALENDAR