BEGIN:VCALENDAR
VERSION:2.0
PRODID:-//Die Servicequelle® - Messefullservice Messecatering deutschlandweit - ECPv6.15.20//NONSGML v1.0//EN
CALSCALE:GREGORIAN
METHOD:PUBLISH
X-WR-CALNAME:Die Servicequelle® - Messefullservice Messecatering deutschlandweit
X-ORIGINAL-URL:https://die-servicequelle.de
X-WR-CALDESC:Veranstaltungen für Die Servicequelle® - Messefullservice Messecatering deutschlandweit
REFRESH-INTERVAL;VALUE=DURATION:PT1H
X-Robots-Tag:noindex
X-PUBLISHED-TTL:PT1H
BEGIN:VTIMEZONE
TZID:Europe/Berlin
BEGIN:DAYLIGHT
TZOFFSETFROM:+0100
TZOFFSETTO:+0200
TZNAME:CEST
DTSTART:20240331T010000
END:DAYLIGHT
BEGIN:STANDARD
TZOFFSETFROM:+0200
TZOFFSETTO:+0100
TZNAME:CET
DTSTART:20241027T010000
END:STANDARD
BEGIN:DAYLIGHT
TZOFFSETFROM:+0100
TZOFFSETTO:+0200
TZNAME:CEST
DTSTART:20250330T010000
END:DAYLIGHT
BEGIN:STANDARD
TZOFFSETFROM:+0200
TZOFFSETTO:+0100
TZNAME:CET
DTSTART:20251026T010000
END:STANDARD
BEGIN:DAYLIGHT
TZOFFSETFROM:+0100
TZOFFSETTO:+0200
TZNAME:CEST
DTSTART:20260329T010000
END:DAYLIGHT
BEGIN:STANDARD
TZOFFSETFROM:+0200
TZOFFSETTO:+0100
TZNAME:CET
DTSTART:20261025T010000
END:STANDARD
END:VTIMEZONE
BEGIN:VEVENT
DTSTART;VALUE=DATE:20251204
DTEND;VALUE=DATE:20251208
DTSTAMP:20260422T181623
CREATED:20250725T111640Z
LAST-MODIFIED:20250725T111640Z
UID:9203-1764806400-1765151999@die-servicequelle.de
SUMMARY:INTERMOT
DESCRIPTION:Unser Messecatering für die INTERMOT – Qualität\, die begeistert\n\nBei Die Servicequelle sind Sie genau richtig – wir bieten maßgeschneidertes Messecatering für die INTERMOT in Köln: vom hochwertigen Fingerfood über Kaffeebar bis hin zu frisch gemixten Cocktails. Perfekt für Ihren Markenauftritt – professionell\, flexibel und aufmerksam betreut. Auf der INTERMOT betreuen wir Messestände unterschiedlichster Größen und passen unser Catering flexibel an Ihre Anforderungen an. \n\n\nDie Messe INTERMOT in Köln ist eine Motorradmesse und die international führende Business- und Eventmesse für Motorräder\, Roller und E-Bikes. Mehr als 1.100 Aussteller\, darunter die Marktführer\, aber auch viele Kleinserienhersteller sowie Bekleidungs- und Zubehörfirmen präsentieren sich auf der INTERMOT Messe Köln und zeigen ihre Neuheiten\, aktuelle Kollektionen\, Trends und Serviceangebote. Zum Angebot der Motorradmesse Köln zählen beispielsweise Motorräder\, Roller und E-Bikes\, Teile\, Zubehör und elektrische Ausrüstung\, Motorradbekleidung\, Fahrerausrüstung\, Werkzeuge\, Werkstatt- und Ladenausrüstung\, sowie Schmierstoffe\, Pflegemittel und touristische Angebote für Zweiradfahrer. Beim Show-in-Show-Konzept customized werden auf der INTERMOT zudem Trends und Themen erlebbar gemacht. Zahlreiche Unternehmen zeigen hier ihre Produkte\, von außergewöhnlichen Umbauten über Bekleidung bis hin zu szeneorientierten Möbeln und Accessoires. Das facettenreiche Eventprogramm mit diversen Probefahr-Parcours\, ausgefallenen Stuntshows und Demo-Rennen\, sowie attraktivem Mitmach-Programmen\, macht den Besuch der Motorradmesse INTERMOT in Köln darüber hinaus zum Dreh- und Angelpunkt der Motorrad-Szene. \nSie suchen einen Partner für Messecatering auf der INTERMOT? Dann sind Sie bei uns genau richtig. \nNutzen Sie unser Kontaktformular oder rufen Sie uns direkt an – wir freuen uns auf Ihre Anfrage und beraten Sie gerne persönlich! \nMesseprojektleiter für Köln: Herr Ingmar Beermann \nKontaktdaten: Unser Team
URL:https://die-servicequelle.de/messetermin/messecatering-intermot/
LOCATION:Messe Köln\, Messepl. 1\, Köln\, 50679\, Germany
END:VEVENT
END:VCALENDAR