BEGIN:VCALENDAR
VERSION:2.0
PRODID:-//Die Servicequelle® - Messefullservice Messecatering deutschlandweit - ECPv6.15.20//NONSGML v1.0//EN
CALSCALE:GREGORIAN
METHOD:PUBLISH
X-WR-CALNAME:Die Servicequelle® - Messefullservice Messecatering deutschlandweit
X-ORIGINAL-URL:https://die-servicequelle.de
X-WR-CALDESC:Veranstaltungen für Die Servicequelle® - Messefullservice Messecatering deutschlandweit
REFRESH-INTERVAL;VALUE=DURATION:PT1H
X-Robots-Tag:noindex
X-PUBLISHED-TTL:PT1H
BEGIN:VTIMEZONE
TZID:Europe/Berlin
BEGIN:DAYLIGHT
TZOFFSETFROM:+0100
TZOFFSETTO:+0200
TZNAME:CEST
DTSTART:20240331T010000
END:DAYLIGHT
BEGIN:STANDARD
TZOFFSETFROM:+0200
TZOFFSETTO:+0100
TZNAME:CET
DTSTART:20241027T010000
END:STANDARD
BEGIN:DAYLIGHT
TZOFFSETFROM:+0100
TZOFFSETTO:+0200
TZNAME:CEST
DTSTART:20250330T010000
END:DAYLIGHT
BEGIN:STANDARD
TZOFFSETFROM:+0200
TZOFFSETTO:+0100
TZNAME:CET
DTSTART:20251026T010000
END:STANDARD
BEGIN:DAYLIGHT
TZOFFSETFROM:+0100
TZOFFSETTO:+0200
TZNAME:CEST
DTSTART:20260329T010000
END:DAYLIGHT
BEGIN:STANDARD
TZOFFSETFROM:+0200
TZOFFSETTO:+0100
TZNAME:CET
DTSTART:20261025T010000
END:STANDARD
END:VTIMEZONE
BEGIN:VEVENT
DTSTART;VALUE=DATE:20251104
DTEND;VALUE=DATE:20251107
DTSTAMP:20260422T234759
CREATED:20250725T101202Z
LAST-MODIFIED:20250725T101213Z
UID:9182-1762214400-1762473599@die-servicequelle.de
SUMMARY:FMB
DESCRIPTION:Unser Messecatering für die FMB – Qualität\, die begeistert\n\nBei Die Servicequelle sind Sie genau richtig – wir bieten maßgeschneidertes Messecatering für die FMB in Bad Salzuflen: vom hochwertigen Fingerfood über Kaffeebar bis hin zu frisch gemixten Cocktails. Perfekt für Ihren Markenauftritt – professionell\, flexibel und aufmerksam betreut. Auf der FMB betreuen wir Messestände unterschiedlichster Größen und passen unser Catering flexibel an Ihre Anforderungen an. \n\n\nDie Messe FMB Fachmesse für Maschinenbau in Bad Salzuflen ist eine Innovationsmesse und Branchentreffpunkt für den direkten Austausch von Entscheidern des Maschinenbaus und ihren Zulieferern. Eine Vielzahl an nationalen und internationalen Ausstellern präsentieren auf der FMB Messe Bad Salzuflen\, der Zuliefermesse Maschinenbau\, alle Maschinenbau relevanten Produktgruppen wie Montage-\, Handhabungs- und Automatisierungstechnik\, Industrieelektronik\, Maschinenteile\, Baugruppen\, Werkstoffe und Werkzeuge\, Netzwerke\, Logistik und Produktentwicklung. Die FMB Bad Salzuflen führt Konstrukteure und Planer zielorientiert zusammen und schlägt Kommunikationsbrücken für bestehende und neue Netzwerke. \nSie suchen einen Partner für Messecatering auf der FMB? Dann sind Sie bei uns genau richtig. \nNutzen Sie unser Kontaktformular oder rufen Sie uns direkt an – wir freuen uns auf Ihre Anfrage und beraten Sie gerne persönlich! \nMesseprojektleiter für Bad Salzuflen: Herr Ralf Tempelmann \nKontaktdaten: Unser Team
URL:https://die-servicequelle.de/messetermin/messecatering-fmb/
LOCATION:Messe Bad Salzuflen\, Benzstraße 23\, Bad Salzuflen\, Niedersachsen\, 32108\, Germany
END:VEVENT
BEGIN:VEVENT
DTSTART;VALUE=DATE:20251104
DTEND;VALUE=DATE:20251108
DTSTAMP:20260422T234759
CREATED:20250725T100821Z
LAST-MODIFIED:20250725T100821Z
UID:9180-1762214400-1762559999@die-servicequelle.de
SUMMARY:A+A
DESCRIPTION:Unser Messecatering für die A+A – Qualität\, die begeistert\n\nBei Die Servicequelle sind Sie genau richtig – wir bieten maßgeschneidertes Messecatering für die A+A in Düsseldorf: vom hochwertigen Fingerfood über Kaffeebar bis hin zu frisch gemixten Cocktails. Perfekt für Ihren Markenauftritt – professionell\, flexibel und aufmerksam betreut. Auf der A+A betreuen wir Messestände unterschiedlichster Größen und passen unser Catering flexibel an Ihre Anforderungen an. \n\n\nDie Messe A+A in Düsseldorf ist die internationale Fachmesse und Kongress für Arbeitsschutz und Arbeitssicherheit. Die A+A Messe Düsseldorf präsentiert ein vielfältiges Angebot an Themen\, darunter Persönliche Schutzausrüstung (PSA)\, Betriebliche Sicherheit und Informationen zur Gesundheit bei der Arbeit. Unternehmen stellen auf der Arbeitsschutzmesse umfassende Sicherheitslösungen vor\, die darauf ausgerichtet sind\, Arbeitsunfälle und Gesundheitsrisiken zu reduzieren. Corporate Fashion nimmt ebenfalls einen wichtigen Platz auf der Arbeitssicherheitsmesse ein. Hier zeigen Hersteller professionelle\, funktionale und modische Arbeitskleidung\, die den Komfort und die Sicherheit der Mitarbeiter gewährleistet. Im Bereich Brandschutz & Notfallmanagement werden auf der A+A Düsseldorf innovative Lösungen für den Brandschutz und das effektive Management von Notfällen präsentiert. Zusätzlich bietet die Betriebssicherheitsmesse eine große Auswahl an hochwertigen Komponenten\, Geweben und Vorprodukte\, denn die Qualität der Komponenten spielt eine entscheidende Rolle für die Leistungsfähigkeit und Sicherheit von Arbeitsausrüstungen. Foren und Sonderschauen sind ein wesentlicher Bestandteil der A+A in Düsseldorf und ergänzen diese perfekt. Sie bieten spezielle Angebote und maßgeschneiderte Lösungen\, die den Fachbesuchern wertvolle Einblicke aus Forschung und Praxis im Bereich Arbeitsschutz und Arbeitssicherheit bieten. Hier werden spezifische Themen behandelt und präsentiert\, die den Besuchern helfen\, ihr Wissen und ihre Expertise in diesen Bereichen zu erweitern. Die Sicherheitsmesse A+A in Düsseldorf ist die weltweit größte und wichtigste Veranstaltung\, wenn es um Sicherheit und Gesundheit bei der Arbeit. \nSie suchen einen Partner für Messecatering auf der A+A? Dann sind Sie bei uns genau richtig. \nNutzen Sie unser Kontaktformular oder rufen Sie uns direkt an – wir freuen uns auf Ihre Anfrage und beraten Sie gerne persönlich! \nMesseprojektleiter für Düsseldorf: Herr Ingmar Beermann \nKontaktdaten: Unser Team
URL:https://die-servicequelle.de/messetermin/messecatering-aa/
LOCATION:Messe Düsseldorf\, Stockumer Kirchstraße 61\, Düsseldorf\, Nordrheinwestfalen\, 40474\, Germany
END:VEVENT
END:VCALENDAR